BEGIN:VCALENDAR
VERSION:2.0
PRODID:-//The Ark - ECPv6.15.20//NONSGML v1.0//EN
CALSCALE:GREGORIAN
METHOD:PUBLISH
X-ORIGINAL-URL:https://theark.org
X-WR-CALDESC:Events for The Ark
REFRESH-INTERVAL;VALUE=DURATION:PT1H
X-Robots-Tag:noindex
X-PUBLISHED-TTL:PT1H
BEGIN:VTIMEZONE
TZID:America/Detroit
BEGIN:DAYLIGHT
TZOFFSETFROM:-0500
TZOFFSETTO:-0400
TZNAME:EDT
DTSTART:20220313T070000
END:DAYLIGHT
BEGIN:STANDARD
TZOFFSETFROM:-0400
TZOFFSETTO:-0500
TZNAME:EST
DTSTART:20221106T060000
END:STANDARD
BEGIN:DAYLIGHT
TZOFFSETFROM:-0500
TZOFFSETTO:-0400
TZNAME:EDT
DTSTART:20230312T070000
END:DAYLIGHT
BEGIN:STANDARD
TZOFFSETFROM:-0400
TZOFFSETTO:-0500
TZNAME:EST
DTSTART:20231105T060000
END:STANDARD
BEGIN:DAYLIGHT
TZOFFSETFROM:-0500
TZOFFSETTO:-0400
TZNAME:EDT
DTSTART:20240310T070000
END:DAYLIGHT
BEGIN:STANDARD
TZOFFSETFROM:-0400
TZOFFSETTO:-0500
TZNAME:EST
DTSTART:20241103T060000
END:STANDARD
END:VTIMEZONE
BEGIN:VEVENT
DTSTART;TZID=America/Detroit:20231014T200000
DTEND;TZID=America/Detroit:20231014T230000
DTSTAMP:20260421T100601
CREATED:20230629T130028Z
LAST-MODIFIED:20231014T200435Z
UID:10000337-1697313600-1697324400@theark.org
SUMMARY:The Verve Pipe
DESCRIPTION:The Verve Pipe has spent the better part of three decades in evolution\, creating a sound that transcends genre and generation. It’s a sound rooted in pop hooks\, alt-rock guitars\, and the sharp songwriting of frontman Brian Vander Ark. A sound that’s taken the band from the golden days of late-’90s modern rock—when The Verve Pipe enjoyed multi-platinum success with hits like “Photograph” and the chart-topping “The Freshmen”—to the rule-breaking creativity of the 2010s and beyond\, an era that’s found the band reinventing itself with each release. Throughout it all\, The Verve Pipe has released critically-acclaimed music as both a major-label act and an independent band\, maintaining a commitment to forward-thinking rock & roll with albums like 2021’s Threads.
URL:https://theark.org/event/the-verve-pipe-231014/
LOCATION:The Ark\, 316 S. Main\, Ann Arbor\, MI\, 48104\, United States
ATTACH;FMTTYPE=image/jpeg:https://theark.org/wp-content/uploads/2023/06/TheVervePipe-BrianVanderARk.jpg
END:VEVENT
END:VCALENDAR