BEGIN:VCALENDAR
VERSION:2.0
PRODID:-//The Ark - ECPv6.15.20//NONSGML v1.0//EN
CALSCALE:GREGORIAN
METHOD:PUBLISH
X-ORIGINAL-URL:https://theark.org
X-WR-CALDESC:Events for The Ark
REFRESH-INTERVAL;VALUE=DURATION:PT1H
X-Robots-Tag:noindex
X-PUBLISHED-TTL:PT1H
BEGIN:VTIMEZONE
TZID:America/Detroit
BEGIN:DAYLIGHT
TZOFFSETFROM:-0500
TZOFFSETTO:-0400
TZNAME:EDT
DTSTART:20220313T070000
END:DAYLIGHT
BEGIN:STANDARD
TZOFFSETFROM:-0400
TZOFFSETTO:-0500
TZNAME:EST
DTSTART:20221106T060000
END:STANDARD
BEGIN:DAYLIGHT
TZOFFSETFROM:-0500
TZOFFSETTO:-0400
TZNAME:EDT
DTSTART:20230312T070000
END:DAYLIGHT
BEGIN:STANDARD
TZOFFSETFROM:-0400
TZOFFSETTO:-0500
TZNAME:EST
DTSTART:20231105T060000
END:STANDARD
BEGIN:DAYLIGHT
TZOFFSETFROM:-0500
TZOFFSETTO:-0400
TZNAME:EDT
DTSTART:20240310T070000
END:DAYLIGHT
BEGIN:STANDARD
TZOFFSETFROM:-0400
TZOFFSETTO:-0500
TZNAME:EST
DTSTART:20241103T060000
END:STANDARD
END:VTIMEZONE
BEGIN:VEVENT
DTSTART;TZID=America/Detroit:20231008T193000
DTEND;TZID=America/Detroit:20231008T230000
DTSTAMP:20260419T185341
CREATED:20230620T130015Z
LAST-MODIFIED:20231014T201441Z
UID:10000357-1696793400-1696806000@theark.org
SUMMARY:Trousdale
DESCRIPTION:Trousdale is a powerful female band consisting of Quinn D’Andrea\, Georgia Greene and Lauren Jones. Their melodic and heartfelt harmonies are often compared to The Chicks and The Staves\, but the girls draw inspiration from a wide array of music\, including Crosby Stills and Nash\, Kacey Musgraves and HAIM. Driven by their passion to empower young women\, Trousdale is committed to making quality music that spreads a message of self-acceptance and love. \nTrousdale has self-released two EPs and are in the process of releasing their debut album\, collecting over 55M streams on Spotify in the last three years. Their catalog until now being entirely self-produced\, this upcoming debut includes songs co-written with Jon Bellion\, Madi Diaz\, Jon Green and Natalie Hemby\, and co-production by Jon Green\, John Mark Nelson\, and others. \n San Diego–born songwriter Anna Vaus opens.
URL:https://theark.org/event/trousdale-231008/
LOCATION:The Ark\, 316 S. Main\, Ann Arbor\, MI\, 48104\, United States
ATTACH;FMTTYPE=image/jpeg:https://theark.org/wp-content/uploads/2023/06/Trousdale_PressPhoto_1_Crop-1.jpg
END:VEVENT
END:VCALENDAR