BEGIN:VCALENDAR
VERSION:2.0
PRODID:-//The Ark - ECPv6.15.20//NONSGML v1.0//EN
CALSCALE:GREGORIAN
METHOD:PUBLISH
X-ORIGINAL-URL:https://theark.org
X-WR-CALDESC:Events for The Ark
REFRESH-INTERVAL;VALUE=DURATION:PT1H
X-Robots-Tag:noindex
X-PUBLISHED-TTL:PT1H
BEGIN:VTIMEZONE
TZID:America/Detroit
BEGIN:DAYLIGHT
TZOFFSETFROM:-0500
TZOFFSETTO:-0400
TZNAME:EDT
DTSTART:20220313T070000
END:DAYLIGHT
BEGIN:STANDARD
TZOFFSETFROM:-0400
TZOFFSETTO:-0500
TZNAME:EST
DTSTART:20221106T060000
END:STANDARD
BEGIN:DAYLIGHT
TZOFFSETFROM:-0500
TZOFFSETTO:-0400
TZNAME:EDT
DTSTART:20230312T070000
END:DAYLIGHT
BEGIN:STANDARD
TZOFFSETFROM:-0400
TZOFFSETTO:-0500
TZNAME:EST
DTSTART:20231105T060000
END:STANDARD
BEGIN:DAYLIGHT
TZOFFSETFROM:-0500
TZOFFSETTO:-0400
TZNAME:EDT
DTSTART:20240310T070000
END:DAYLIGHT
BEGIN:STANDARD
TZOFFSETFROM:-0400
TZOFFSETTO:-0500
TZNAME:EST
DTSTART:20241103T060000
END:STANDARD
END:VTIMEZONE
BEGIN:VEVENT
DTSTART;TZID=America/Detroit:20231006T200000
DTEND;TZID=America/Detroit:20231006T230000
DTSTAMP:20260421T235453
CREATED:20230223T150058Z
LAST-MODIFIED:20231014T201006Z
UID:10000355-1696622400-1696633200@theark.org
SUMMARY:Ben Daniels Band
DESCRIPTION:While in Arizona studying audio engineering\, Ben Daniels decided to be a musician. A natural poet\, he soon became a young songwriter schooled on Bob Dylan\, Robert Johnson\, J.J. Cale\, and John Prine\, among others. \nSince 2006\, Ben has written songs that speak directly to the things we all see\, recognize\, and think. Years later\, his lyrics have the authenticity of an artist. \nTogether since 2008\, the Ben Daniels Band cuts through with an Americana sound from the Michigan ground. From their opening song to the finale of their set\, their musicianship\, experience\, and originality make no two shows alike. And with the bluegrass roots of Tommy Reifel (bass)\, Wesley Fritzemeier (drums/mandolin/fiddle)\, and George Merkel (guitar)\, Ben Daniels Band’s live show never fails to take over the venue.
URL:https://theark.org/event/ben-daniels-band-231006/
LOCATION:The Ark\, 316 S. Main\, Ann Arbor\, MI\, 48104\, United States
ATTACH;FMTTYPE=image/jpeg:https://theark.org/wp-content/uploads/2023/02/BDB-fire-crop-1.jpg
END:VEVENT
END:VCALENDAR