BEGIN:VCALENDAR
VERSION:2.0
PRODID:-//The Ark - ECPv6.15.20//NONSGML v1.0//EN
CALSCALE:GREGORIAN
METHOD:PUBLISH
X-ORIGINAL-URL:https://theark.org
X-WR-CALDESC:Events for The Ark
REFRESH-INTERVAL;VALUE=DURATION:PT1H
X-Robots-Tag:noindex
X-PUBLISHED-TTL:PT1H
BEGIN:VTIMEZONE
TZID:America/Detroit
BEGIN:DAYLIGHT
TZOFFSETFROM:-0500
TZOFFSETTO:-0400
TZNAME:EDT
DTSTART:20220313T070000
END:DAYLIGHT
BEGIN:STANDARD
TZOFFSETFROM:-0400
TZOFFSETTO:-0500
TZNAME:EST
DTSTART:20221106T060000
END:STANDARD
BEGIN:DAYLIGHT
TZOFFSETFROM:-0500
TZOFFSETTO:-0400
TZNAME:EDT
DTSTART:20230312T070000
END:DAYLIGHT
BEGIN:STANDARD
TZOFFSETFROM:-0400
TZOFFSETTO:-0500
TZNAME:EST
DTSTART:20231105T060000
END:STANDARD
BEGIN:DAYLIGHT
TZOFFSETFROM:-0500
TZOFFSETTO:-0400
TZNAME:EDT
DTSTART:20240310T070000
END:DAYLIGHT
BEGIN:STANDARD
TZOFFSETFROM:-0400
TZOFFSETTO:-0500
TZNAME:EST
DTSTART:20241103T060000
END:STANDARD
END:VTIMEZONE
BEGIN:VEVENT
DTSTART;TZID=America/Detroit:20230310T200000
DTEND;TZID=America/Detroit:20230310T230000
DTSTAMP:20260419T110245
CREATED:20230112T150028Z
LAST-MODIFIED:20230112T150028Z
UID:10000241-1678478400-1678489200@theark.org
SUMMARY:May Erlewine
DESCRIPTION:Please review The Ark’s current COVID-related information before attending a show.\nCOVID-19 FAQ \nOne of the Midwest’s most prolific and passionate songwriters\, May Erlewine continues to share her gift for writing songs of substance that feel both new and soulfully familiar. Her lyrics offer a window into her heartbreak\, her empowerment\, and her emboldened spirit. These lyrics\, which are really stories crafted through May’s unique experiences\, are rooted in wisdom\, joy\, sorrow\, simplicity\, and love. Musically\, she carries the songwriter’s torch through many genres and sonic landscapes. May considers her career in the music industry as a service-oriented one and uses her platform for positive change. She stresses the importance of environmental advocacy\, social justice\, creative empowerment\, and community building as necessary work in our world. May’s body of work has become an anthem and an example of why we need to listen to women\, empower women\, and why we need to hear their stories. May’s work has been spotlighted by Rolling Stone and NBC’s “The Voice” and covered by countless artists.  \nThis performance will be in celebration of her new record\, The Real Thing. The album produced by Theo Katzman\, is a collection of songs performed live in a room\, deep in the Manistee National Forest. Released as a part of Theo’s new record label\, The Real Thing is just that\, real people\, making real music\, together in a room.
URL:https://theark.org/event/may-erlewine-230310/
LOCATION:The Ark\, 316 S. Main\, Ann Arbor\, MI\, 48104\, United States
CATEGORIES:Sold Out
ATTACH;FMTTYPE=image/jpeg:https://theark.org/wp-content/uploads/2023/01/IMG_0132.jpg
END:VEVENT
END:VCALENDAR