BEGIN:VCALENDAR
VERSION:2.0
PRODID:-//The Ark - ECPv6.15.20//NONSGML v1.0//EN
CALSCALE:GREGORIAN
METHOD:PUBLISH
X-ORIGINAL-URL:https://theark.org
X-WR-CALDESC:Events for The Ark
REFRESH-INTERVAL;VALUE=DURATION:PT1H
X-Robots-Tag:noindex
X-PUBLISHED-TTL:PT1H
BEGIN:VTIMEZONE
TZID:America/Detroit
BEGIN:DAYLIGHT
TZOFFSETFROM:-0500
TZOFFSETTO:-0400
TZNAME:EDT
DTSTART:20220313T070000
END:DAYLIGHT
BEGIN:STANDARD
TZOFFSETFROM:-0400
TZOFFSETTO:-0500
TZNAME:EST
DTSTART:20221106T060000
END:STANDARD
BEGIN:DAYLIGHT
TZOFFSETFROM:-0500
TZOFFSETTO:-0400
TZNAME:EDT
DTSTART:20230312T070000
END:DAYLIGHT
BEGIN:STANDARD
TZOFFSETFROM:-0400
TZOFFSETTO:-0500
TZNAME:EST
DTSTART:20231105T060000
END:STANDARD
BEGIN:DAYLIGHT
TZOFFSETFROM:-0500
TZOFFSETTO:-0400
TZNAME:EDT
DTSTART:20240310T070000
END:DAYLIGHT
BEGIN:STANDARD
TZOFFSETFROM:-0400
TZOFFSETTO:-0500
TZNAME:EST
DTSTART:20241103T060000
END:STANDARD
END:VTIMEZONE
BEGIN:VEVENT
DTSTART;TZID=America/Detroit:20230309T200000
DTEND;TZID=America/Detroit:20230309T230000
DTSTAMP:20260419T104428
CREATED:20221201T150057Z
LAST-MODIFIED:20221201T150057Z
UID:10000223-1678392000-1678402800@theark.org
SUMMARY:Vanessa Collier
DESCRIPTION:Please review The Ark’s current COVID-related information before attending a show.\nCOVID-19 FAQ \nVanessa Collier is a captivating and multitalented blues vocalist\, saxophonist\, and songwriter\, hailing from the world-renowned Berklee College of Music\, where she earned dual degrees in Performance and Music Production & Engineering. Vanessa demonstrates her skills as a master musician and songwriter\, blending her blues background with elements of funk\, rock\, and soul. Vanessa’s mighty vocals\, gritty saxophone solos\, and incredible high-energy stage presence create a powerful show not to be missed!
URL:https://theark.org/event/vanessa-collier-230309/
LOCATION:The Ark\, 316 S. Main\, Ann Arbor\, MI\, 48104\, United States
ATTACH;FMTTYPE=image/jpeg:https://theark.org/wp-content/uploads/2022/11/Vanessa-Collier.jpg
END:VEVENT
END:VCALENDAR