BEGIN:VCALENDAR
VERSION:2.0
PRODID:-//The Ark - ECPv6.15.20//NONSGML v1.0//EN
CALSCALE:GREGORIAN
METHOD:PUBLISH
X-WR-CALNAME:The Ark
X-ORIGINAL-URL:https://theark.org
X-WR-CALDESC:Events for The Ark
REFRESH-INTERVAL;VALUE=DURATION:PT1H
X-Robots-Tag:noindex
X-PUBLISHED-TTL:PT1H
BEGIN:VTIMEZONE
TZID:America/Detroit
BEGIN:DAYLIGHT
TZOFFSETFROM:-0500
TZOFFSETTO:-0400
TZNAME:EDT
DTSTART:20220313T070000
END:DAYLIGHT
BEGIN:STANDARD
TZOFFSETFROM:-0400
TZOFFSETTO:-0500
TZNAME:EST
DTSTART:20221106T060000
END:STANDARD
BEGIN:DAYLIGHT
TZOFFSETFROM:-0500
TZOFFSETTO:-0400
TZNAME:EDT
DTSTART:20230312T070000
END:DAYLIGHT
BEGIN:STANDARD
TZOFFSETFROM:-0400
TZOFFSETTO:-0500
TZNAME:EST
DTSTART:20231105T060000
END:STANDARD
BEGIN:DAYLIGHT
TZOFFSETFROM:-0500
TZOFFSETTO:-0400
TZNAME:EDT
DTSTART:20240310T070000
END:DAYLIGHT
BEGIN:STANDARD
TZOFFSETFROM:-0400
TZOFFSETTO:-0500
TZNAME:EST
DTSTART:20241103T060000
END:STANDARD
END:VTIMEZONE
BEGIN:VEVENT
DTSTART;TZID=America/Detroit:20230307T200000
DTEND;TZID=America/Detroit:20230307T230000
DTSTAMP:20260419T171714
CREATED:20221027T140054Z
LAST-MODIFIED:20221027T140054Z
UID:10000203-1678219200-1678230000@theark.org
SUMMARY:Leo Kottke
DESCRIPTION:Please review The Ark’s current COVID-related information before attending a show.\nCOVID-19 FAQ \nThe Los Angeles Times calls Leo Kottke “an American legend in the guitar world\, and a king of his own private musical world.” If you haven’t heard Leo Kottke for a while\, though\, you may have missed how one of the fastest 6- and 12-string guitar players around has also become one of the most innovative and least musically classifiable. His music encompasses influences from all over the world\, and players from outside the folk world closely follow what he does. Leo Kottke is a legend of the guitar who’s still full of surprises after all these years. His shows are displays of captivating mastery of a sort that’s rare in any genre of music. Don’t miss him\, and get tickets early for this one—Leo’s Ark shows have been consistent sellouts.
URL:https://theark.org/event/leo-kottke-230307/
LOCATION:The Ark\, 316 S. Main\, Ann Arbor\, MI\, 48104\, United States
CATEGORIES:Sold Out
ATTACH;FMTTYPE=image/jpeg:https://theark.org/wp-content/uploads/2022/10/Leo_Kottke_by_Amy_Kerwin_4.jpg
END:VEVENT
END:VCALENDAR