BEGIN:VCALENDAR
VERSION:2.0
PRODID:-//The Ark - ECPv6.15.20//NONSGML v1.0//EN
CALSCALE:GREGORIAN
METHOD:PUBLISH
X-WR-CALNAME:The Ark
X-ORIGINAL-URL:https://theark.org
X-WR-CALDESC:Events for The Ark
REFRESH-INTERVAL;VALUE=DURATION:PT1H
X-Robots-Tag:noindex
X-PUBLISHED-TTL:PT1H
BEGIN:VTIMEZONE
TZID:America/Detroit
BEGIN:DAYLIGHT
TZOFFSETFROM:-0500
TZOFFSETTO:-0400
TZNAME:EDT
DTSTART:20220313T070000
END:DAYLIGHT
BEGIN:STANDARD
TZOFFSETFROM:-0400
TZOFFSETTO:-0500
TZNAME:EST
DTSTART:20221106T060000
END:STANDARD
BEGIN:DAYLIGHT
TZOFFSETFROM:-0500
TZOFFSETTO:-0400
TZNAME:EDT
DTSTART:20230312T070000
END:DAYLIGHT
BEGIN:STANDARD
TZOFFSETFROM:-0400
TZOFFSETTO:-0500
TZNAME:EST
DTSTART:20231105T060000
END:STANDARD
BEGIN:DAYLIGHT
TZOFFSETFROM:-0500
TZOFFSETTO:-0400
TZNAME:EDT
DTSTART:20240310T070000
END:DAYLIGHT
BEGIN:STANDARD
TZOFFSETFROM:-0400
TZOFFSETTO:-0500
TZNAME:EST
DTSTART:20241103T060000
END:STANDARD
END:VTIMEZONE
BEGIN:VEVENT
DTSTART;TZID=America/Detroit:20230223T200000
DTEND;TZID=America/Detroit:20230223T230000
DTSTAMP:20260419T153608
CREATED:20230105T150005Z
LAST-MODIFIED:20230105T150005Z
UID:10000239-1677182400-1677193200@theark.org
SUMMARY:Rochelle Clark & The Familiars
DESCRIPTION:Please review The Ark’s current COVID-related information before attending a show.\nCOVID-19 FAQ \nA native of Michigan\, Rochelle Clark writes music that has been described as raw\, honest\, and beautifully vulnerable. She writes and sings about real life\, joy\, struggle and human tragedy – you can’t help but feel for the characters in her songs. Leaning heavily on personal experience\, she connects on an intimate level that resonates with her audience. As one half of the acclaimed Americana duo The Potters Field\, Rochelle has offered powerful vocals that have been captivating audiences in Michigan and throughout the Midwest for years. Drawing on her roots in folk\, Americana\, and country\, Rochelle has found a sound that is uniquely her own. In January 2020 she released her first solo recording; an EP titled “In Time\,” and she’s continuing to explore her voice as a solo songwriter. Joining Rochelle will be a band of exceptional musicians (affectionately dubbed The Familiars) who include Jason Dennie\, Keith Bilick\, and John Sperendi.
URL:https://theark.org/event/rochelle-clark-the-familiars/
LOCATION:The Ark\, 316 S. Main\, Ann Arbor\, MI\, 48104\, United States
CATEGORIES:Cancelled
ATTACH;FMTTYPE=image/jpeg:https://theark.org/wp-content/uploads/2022/12/rochelle_clark.jpg
END:VEVENT
END:VCALENDAR