BEGIN:VCALENDAR
VERSION:2.0
PRODID:-//The Ark - ECPv6.15.20//NONSGML v1.0//EN
CALSCALE:GREGORIAN
METHOD:PUBLISH
X-ORIGINAL-URL:https://theark.org
X-WR-CALDESC:Events for The Ark
REFRESH-INTERVAL;VALUE=DURATION:PT1H
X-Robots-Tag:noindex
X-PUBLISHED-TTL:PT1H
BEGIN:VTIMEZONE
TZID:America/Detroit
BEGIN:DAYLIGHT
TZOFFSETFROM:-0500
TZOFFSETTO:-0400
TZNAME:EDT
DTSTART:20220313T070000
END:DAYLIGHT
BEGIN:STANDARD
TZOFFSETFROM:-0400
TZOFFSETTO:-0500
TZNAME:EST
DTSTART:20221106T060000
END:STANDARD
BEGIN:DAYLIGHT
TZOFFSETFROM:-0500
TZOFFSETTO:-0400
TZNAME:EDT
DTSTART:20230312T070000
END:DAYLIGHT
BEGIN:STANDARD
TZOFFSETFROM:-0400
TZOFFSETTO:-0500
TZNAME:EST
DTSTART:20231105T060000
END:STANDARD
BEGIN:DAYLIGHT
TZOFFSETFROM:-0500
TZOFFSETTO:-0400
TZNAME:EDT
DTSTART:20240310T070000
END:DAYLIGHT
BEGIN:STANDARD
TZOFFSETFROM:-0400
TZOFFSETTO:-0500
TZNAME:EST
DTSTART:20241103T060000
END:STANDARD
END:VTIMEZONE
BEGIN:VEVENT
DTSTART;TZID=America/Detroit:20230221T200000
DTEND;TZID=America/Detroit:20230221T230000
DTSTAMP:20260421T145639
CREATED:20221201T193346Z
LAST-MODIFIED:20221201T193346Z
UID:10000225-1677009600-1677020400@theark.org
SUMMARY:Buffalo Rose
DESCRIPTION:Please review The Ark’s current COVID-related information before attending a show.\nCOVID-19 FAQ \nBuffalo Rose is a wildly charismatic six-piece modern folk/Americana band from Pittsburgh. They take the singer-songwriter tradition to a new level by crafting original songs which are emotive\, meticulously arranged\, and inspired by a world of idiosyncratic influences that never let a dull or predictable moment creep in. The band released its debut album\, “The Soil and the Seed\,” in 2018. Since then\, Buffalo Rose has dropped two EPs\, 2019’s “Big Stampede” and 2020’s “Borrowed and Blue\,” opened for the Wood Brothers\, Mipso\, Pokey LaFarge\, Tyler Childers\, and the Infamous Stringdusters\, and shared a festival stage with the legendary Sam Bush. The band’s upward trajectory continues into 2022 with its latest EP\, “Rabbit\,” created in collaboration with Grammy Lifetime Achievement Award recipient Tom Paxton\, followed by a new full-length LP\, “Again\, Again\, Again\,” released November 2022. Fans of Lake Street Dive\, Nickel Creek\, and Punch Brothers will find much to like in this crew. \nThis program is made possible with support from the Ford Motor Company Fund. It is presented live\, and also livestreamed on The Ark’s Facebook page. \nThis is a FREE show. Nonperishables accepted for Food Gatherers.
URL:https://theark.org/event/buffalo-rose-230221/
LOCATION:The Ark\, 316 S. Main\, Ann Arbor\, MI\, 48104\, United States
CATEGORIES:Artist Spotlight Series,Live and Virtual
ATTACH;FMTTYPE=image/jpeg:https://theark.org/wp-content/uploads/2022/12/Buffalo-Rose-by-Jeff-Fasano-2.jpeg
END:VEVENT
END:VCALENDAR