BEGIN:VCALENDAR
VERSION:2.0
PRODID:-//The Ark - ECPv6.15.20//NONSGML v1.0//EN
CALSCALE:GREGORIAN
METHOD:PUBLISH
X-WR-CALNAME:The Ark
X-ORIGINAL-URL:https://theark.org
X-WR-CALDESC:Events for The Ark
REFRESH-INTERVAL;VALUE=DURATION:PT1H
X-Robots-Tag:noindex
X-PUBLISHED-TTL:PT1H
BEGIN:VTIMEZONE
TZID:America/Detroit
BEGIN:DAYLIGHT
TZOFFSETFROM:-0500
TZOFFSETTO:-0400
TZNAME:EDT
DTSTART:20220313T070000
END:DAYLIGHT
BEGIN:STANDARD
TZOFFSETFROM:-0400
TZOFFSETTO:-0500
TZNAME:EST
DTSTART:20221106T060000
END:STANDARD
BEGIN:DAYLIGHT
TZOFFSETFROM:-0500
TZOFFSETTO:-0400
TZNAME:EDT
DTSTART:20230312T070000
END:DAYLIGHT
BEGIN:STANDARD
TZOFFSETFROM:-0400
TZOFFSETTO:-0500
TZNAME:EST
DTSTART:20231105T060000
END:STANDARD
BEGIN:DAYLIGHT
TZOFFSETFROM:-0500
TZOFFSETTO:-0400
TZNAME:EDT
DTSTART:20240310T070000
END:DAYLIGHT
BEGIN:STANDARD
TZOFFSETFROM:-0400
TZOFFSETTO:-0500
TZNAME:EST
DTSTART:20241103T060000
END:STANDARD
END:VTIMEZONE
BEGIN:VEVENT
DTSTART;TZID=America/Detroit:20230202T200000
DTEND;TZID=America/Detroit:20230202T230000
DTSTAMP:20260421T033441
CREATED:20221101T140036Z
LAST-MODIFIED:20221101T140036Z
UID:10000205-1675368000-1675378800@theark.org
SUMMARY:Buffalo Nichols
DESCRIPTION:Please review The Ark’s current COVID-related information before attending a show.\nCOVID-19 FAQ \nSince his earliest infatuations with guitar\, Carl “Buffalo” Nichols has asked himself the same question: How can I bring the blues of the past into the future? After cutting his teeth between a Baptist church and bars in Milwaukee\, it was a globetrotting trip through West Africa and Europe during a creative down period that began to reveal the answer. He heard jazz in Ukraine\, blues from expat African Americans in Berlin. “Part of my intent\, making myself more comfortable with this release\, is putting more Black stories into the genres of folk and blues\,” guitarist\, songwriter\, and vocalist Buffalo Nichols explains. “Listening to this record\, I want more Black people to hear themselves in this music that is truly theirs.” That desire is embodied in his self-titled debut album\, composed largely of demos and studio sessions recorded between Wisconsin and Texas\, and it marks a new stage of the blues.
URL:https://theark.org/event/buffalo-nichols-230202/
LOCATION:The Ark\, 316 S. Main\, Ann Arbor\, MI\, 48104\, United States
ATTACH;FMTTYPE=image/jpeg:https://theark.org/wp-content/uploads/2022/10/buffalo_nichols_2-scaled-1.jpg
END:VEVENT
END:VCALENDAR