BEGIN:VCALENDAR
VERSION:2.0
PRODID:-//The Ark - ECPv6.15.20//NONSGML v1.0//EN
CALSCALE:GREGORIAN
METHOD:PUBLISH
X-WR-CALNAME:The Ark
X-ORIGINAL-URL:https://theark.org
X-WR-CALDESC:Events for The Ark
REFRESH-INTERVAL;VALUE=DURATION:PT1H
X-Robots-Tag:noindex
X-PUBLISHED-TTL:PT1H
BEGIN:VTIMEZONE
TZID:America/Detroit
BEGIN:DAYLIGHT
TZOFFSETFROM:-0500
TZOFFSETTO:-0400
TZNAME:EDT
DTSTART:20220313T070000
END:DAYLIGHT
BEGIN:STANDARD
TZOFFSETFROM:-0400
TZOFFSETTO:-0500
TZNAME:EST
DTSTART:20221106T060000
END:STANDARD
BEGIN:DAYLIGHT
TZOFFSETFROM:-0500
TZOFFSETTO:-0400
TZNAME:EDT
DTSTART:20230312T070000
END:DAYLIGHT
BEGIN:STANDARD
TZOFFSETFROM:-0400
TZOFFSETTO:-0500
TZNAME:EST
DTSTART:20231105T060000
END:STANDARD
BEGIN:DAYLIGHT
TZOFFSETFROM:-0500
TZOFFSETTO:-0400
TZNAME:EDT
DTSTART:20240310T070000
END:DAYLIGHT
BEGIN:STANDARD
TZOFFSETFROM:-0400
TZOFFSETTO:-0500
TZNAME:EST
DTSTART:20241103T060000
END:STANDARD
END:VTIMEZONE
BEGIN:VEVENT
DTSTART;TZID=America/Detroit:20230128T183000
DTEND;TZID=America/Detroit:20230128T233000
DTSTAMP:20260422T182711
CREATED:20221118T152910Z
LAST-MODIFIED:20221118T152910Z
UID:10000220-1674930600-1674948600@theark.org
SUMMARY:46th Ann Arbor Folk Fest
DESCRIPTION:Ani DiFranco\, St. Paul & The Broken Bones and Patty Griffin headline Saturday’s program which also features Gina Chavez\, Oshima Brothers\, Kyshona\, and The Jared Deck Band. Peter Mulvey with SistaStrings serve as our emcees for the evening. With a special guest appearance by Parker Millsap. \nSaturday night of the Ann Arbor Folk Fest offers the traditional Folk Fest format in beautiful Hill Auditorium\, featuring a blend of renowned and up-and-coming performers\, providing the opportunity to hear artists you know and love while discovering great new talent. \nClick here for full festival ticket information.
URL:https://theark.org/event/46th-ann-arbor-folk-fest-230128/
LOCATION:Hill Auditorium\, 825 N University Ave\, Ann Arbor\, MI\, 48108\, United States
CATEGORIES:Folk Festival,Special Event
ATTACH;FMTTYPE=image/png:https://theark.org/wp-content/uploads/2022/11/FF23-artist_website_graphic-v5.png
END:VEVENT
END:VCALENDAR