BEGIN:VCALENDAR
VERSION:2.0
PRODID:-//The Ark - ECPv6.15.20//NONSGML v1.0//EN
CALSCALE:GREGORIAN
METHOD:PUBLISH
X-ORIGINAL-URL:https://theark.org
X-WR-CALDESC:Events for The Ark
REFRESH-INTERVAL;VALUE=DURATION:PT1H
X-Robots-Tag:noindex
X-PUBLISHED-TTL:PT1H
BEGIN:VTIMEZONE
TZID:America/Detroit
BEGIN:DAYLIGHT
TZOFFSETFROM:-0500
TZOFFSETTO:-0400
TZNAME:EDT
DTSTART:20220313T070000
END:DAYLIGHT
BEGIN:STANDARD
TZOFFSETFROM:-0400
TZOFFSETTO:-0500
TZNAME:EST
DTSTART:20221106T060000
END:STANDARD
BEGIN:DAYLIGHT
TZOFFSETFROM:-0500
TZOFFSETTO:-0400
TZNAME:EDT
DTSTART:20230312T070000
END:DAYLIGHT
BEGIN:STANDARD
TZOFFSETFROM:-0400
TZOFFSETTO:-0500
TZNAME:EST
DTSTART:20231105T060000
END:STANDARD
BEGIN:DAYLIGHT
TZOFFSETFROM:-0500
TZOFFSETTO:-0400
TZNAME:EDT
DTSTART:20240310T070000
END:DAYLIGHT
BEGIN:STANDARD
TZOFFSETFROM:-0400
TZOFFSETTO:-0500
TZNAME:EST
DTSTART:20241103T060000
END:STANDARD
END:VTIMEZONE
BEGIN:VEVENT
DTSTART;TZID=America/Detroit:20230127T200000
DTEND;TZID=America/Detroit:20230127T230000
DTSTAMP:20260422T182949
CREATED:20221118T152626Z
LAST-MODIFIED:20221118T152626Z
UID:10000219-1674849600-1674860400@theark.org
SUMMARY:Friday Night Folk: BanjoFest
DESCRIPTION:Valerie June headlines this in-the-round evening in The Ark’s Ford Listening Room featuring her own specially curated lineup of phenomenal women artists\, including Thao\, Yasmin Williams and Michigan’s own Rachael Davis. \nClick here for full festival ticket information.
URL:https://theark.org/event/friday-night-folk-banjofest-230127/
LOCATION:The Ark\, 316 S. Main\, Ann Arbor\, MI\, 48104\, United States
CATEGORIES:Sold Out
ATTACH;FMTTYPE=image/png:https://theark.org/wp-content/uploads/2022/11/BANJOFEST-900x600-v2@2x.png
END:VEVENT
END:VCALENDAR