BEGIN:VCALENDAR
VERSION:2.0
PRODID:-//The Ark - ECPv6.15.20//NONSGML v1.0//EN
CALSCALE:GREGORIAN
METHOD:PUBLISH
X-ORIGINAL-URL:https://theark.org
X-WR-CALDESC:Events for The Ark
REFRESH-INTERVAL;VALUE=DURATION:PT1H
X-Robots-Tag:noindex
X-PUBLISHED-TTL:PT1H
BEGIN:VTIMEZONE
TZID:America/Detroit
BEGIN:DAYLIGHT
TZOFFSETFROM:-0500
TZOFFSETTO:-0400
TZNAME:EDT
DTSTART:20220313T070000
END:DAYLIGHT
BEGIN:STANDARD
TZOFFSETFROM:-0400
TZOFFSETTO:-0500
TZNAME:EST
DTSTART:20221106T060000
END:STANDARD
BEGIN:DAYLIGHT
TZOFFSETFROM:-0500
TZOFFSETTO:-0400
TZNAME:EDT
DTSTART:20230312T070000
END:DAYLIGHT
BEGIN:STANDARD
TZOFFSETFROM:-0400
TZOFFSETTO:-0500
TZNAME:EST
DTSTART:20231105T060000
END:STANDARD
BEGIN:DAYLIGHT
TZOFFSETFROM:-0500
TZOFFSETTO:-0400
TZNAME:EDT
DTSTART:20240310T070000
END:DAYLIGHT
BEGIN:STANDARD
TZOFFSETFROM:-0400
TZOFFSETTO:-0500
TZNAME:EST
DTSTART:20241103T060000
END:STANDARD
END:VTIMEZONE
BEGIN:VEVENT
DTSTART;TZID=America/Detroit:20230126T200000
DTEND;TZID=America/Detroit:20230126T230000
DTSTAMP:20260423T095916
CREATED:20221102T140031Z
LAST-MODIFIED:20221102T140031Z
UID:10000204-1674763200-1674774000@theark.org
SUMMARY:Neal Francis
DESCRIPTION:Please review The Ark’s current COVID-related information before attending a show.\nCOVID-19 FAQ \nPresented with support from Ann Arbor’s 107one \nOn his new album\, “In Plain Sight\,” Neal Francis offers up a body of work both strangely enchanted and painfully self-aware\, unfolding in songs sparked from Greek myths and frenzied dreams and late-night drives in the depths of summer delirium. True to its charmed complexity\, the singer/songwriter/pianist’s second full-length came to life over the course of a tumultuous year spent living in a possibly haunted church in Chicago. The result: a portrait of profound upheaval and weary resilience\, presented in a kaleidoscopic sound that’s endlessly absorbing.  \nBravery can take many forms. For Danielle Ponder it took the shape of a leap of faith: leaving her successful day job working in the public defender’s office in her hometown of Rochester (New York) to devote herself full-time to sharing her powerful voice with the world. The singer-songwriter’s mesmerizing eight-song debut\, “Some of Us Are Brave\,” reinforces that her faith was not misplaced\, and her leap has been rewarded with a safe landing. Written and recorded over three years\, the album is a refreshingly original\, shiver-inducing mix of pop\, R&B\, blues\, rock\, and moody trip-hop topped by Danielle’s celestial voice— an instrument that can plumb melancholy depths with a heartsick murmur and scrape the sky with hurricane force wails.
URL:https://theark.org/event/neal-francis-and-danielle-ponder-230126/
LOCATION:The Ark\, 316 S. Main\, Ann Arbor\, MI\, 48104\, United States
ATTACH;FMTTYPE=image/jpeg:https://theark.org/wp-content/uploads/2022/11/NealFrancis-Press-Shot-3-1-scaled-1.jpg
END:VEVENT
END:VCALENDAR