BEGIN:VCALENDAR
VERSION:2.0
PRODID:-//The Ark - ECPv6.15.20//NONSGML v1.0//EN
CALSCALE:GREGORIAN
METHOD:PUBLISH
X-ORIGINAL-URL:https://theark.org
X-WR-CALDESC:Events for The Ark
REFRESH-INTERVAL;VALUE=DURATION:PT1H
X-Robots-Tag:noindex
X-PUBLISHED-TTL:PT1H
BEGIN:VTIMEZONE
TZID:America/Detroit
BEGIN:DAYLIGHT
TZOFFSETFROM:-0500
TZOFFSETTO:-0400
TZNAME:EDT
DTSTART:20220313T070000
END:DAYLIGHT
BEGIN:STANDARD
TZOFFSETFROM:-0400
TZOFFSETTO:-0500
TZNAME:EST
DTSTART:20221106T060000
END:STANDARD
BEGIN:DAYLIGHT
TZOFFSETFROM:-0500
TZOFFSETTO:-0400
TZNAME:EDT
DTSTART:20230312T070000
END:DAYLIGHT
BEGIN:STANDARD
TZOFFSETFROM:-0400
TZOFFSETTO:-0500
TZNAME:EST
DTSTART:20231105T060000
END:STANDARD
BEGIN:DAYLIGHT
TZOFFSETFROM:-0500
TZOFFSETTO:-0400
TZNAME:EDT
DTSTART:20240310T070000
END:DAYLIGHT
BEGIN:STANDARD
TZOFFSETFROM:-0400
TZOFFSETTO:-0500
TZNAME:EST
DTSTART:20241103T060000
END:STANDARD
END:VTIMEZONE
BEGIN:VEVENT
DTSTART;TZID=America/Detroit:20230124T200000
DTEND;TZID=America/Detroit:20230124T230000
DTSTAMP:20260421T093206
CREATED:20221219T150034Z
LAST-MODIFIED:20221219T150034Z
UID:10000237-1674590400-1674601200@theark.org
SUMMARY:Shane Guerrette
DESCRIPTION:Please review The Ark’s current COVID-related information before attending a show.\nCOVID-19 FAQ \nIt’s the old way of doing things that inspires a new sound for upstate NY based artist\, Shane Guerrette. Drawing influence from classic soul and roots rock genres\, Shane has only just begun to craft his own retro flavored sound. With a recent self-released debut album called “Here’s Hoping” and plans of touring in the near future\, you’ll want to keep an eye out for what’s to come from this rising star. \nThis program is made possible with support from the Ford Motor Company Fund. It is presented live\, and also livestreamed on The Ark’s Facebook page. \nThis is a FREE show. Nonperishables accepted for Food Gatherers.
URL:https://theark.org/event/shane-guerrette-230124/
LOCATION:MI
CATEGORIES:Artist Spotlight Series,Live and Virtual
ATTACH;FMTTYPE=image/jpeg:https://theark.org/wp-content/uploads/2022/12/0J3A1562-scaled-1.jpeg
END:VEVENT
END:VCALENDAR