BEGIN:VCALENDAR
VERSION:2.0
PRODID:-//The Ark - ECPv6.15.20//NONSGML v1.0//EN
CALSCALE:GREGORIAN
METHOD:PUBLISH
X-WR-CALNAME:The Ark
X-ORIGINAL-URL:https://theark.org
X-WR-CALDESC:Events for The Ark
REFRESH-INTERVAL;VALUE=DURATION:PT1H
X-Robots-Tag:noindex
X-PUBLISHED-TTL:PT1H
BEGIN:VTIMEZONE
TZID:America/Detroit
BEGIN:DAYLIGHT
TZOFFSETFROM:-0500
TZOFFSETTO:-0400
TZNAME:EDT
DTSTART:20220313T070000
END:DAYLIGHT
BEGIN:STANDARD
TZOFFSETFROM:-0400
TZOFFSETTO:-0500
TZNAME:EST
DTSTART:20221106T060000
END:STANDARD
BEGIN:DAYLIGHT
TZOFFSETFROM:-0500
TZOFFSETTO:-0400
TZNAME:EDT
DTSTART:20230312T070000
END:DAYLIGHT
BEGIN:STANDARD
TZOFFSETFROM:-0400
TZOFFSETTO:-0500
TZNAME:EST
DTSTART:20231105T060000
END:STANDARD
BEGIN:DAYLIGHT
TZOFFSETFROM:-0500
TZOFFSETTO:-0400
TZNAME:EDT
DTSTART:20240310T070000
END:DAYLIGHT
BEGIN:STANDARD
TZOFFSETFROM:-0400
TZOFFSETTO:-0500
TZNAME:EST
DTSTART:20241103T060000
END:STANDARD
END:VTIMEZONE
BEGIN:VEVENT
DTSTART;TZID=America/Detroit:20230121T200000
DTEND;TZID=America/Detroit:20230121T230000
DTSTAMP:20260422T054229
CREATED:20221027T140019Z
LAST-MODIFIED:20221027T140019Z
UID:10000201-1674331200-1674342000@theark.org
SUMMARY:Heywood Banks
DESCRIPTION:Please review The Ark’s current COVID-related information before attending a show.\nCOVID-19 FAQ \nHeywood Banks is simply one-of-a-kind\, almost impossible to describe\, with a style his very own. Equal parts genius and buffoon\, this songwriter-comic-singer-poet-musician from Flint has become a cult hero and a pop icon\, with a show that appeals to college students\, stoners\, businessmen\, yuppies\, rednecks\, punks\, kids\, or your grandmother. Heywood intersperses his humorous observations of life with twisted\, inventive\, bizarre songs\, sung and played in a variety of styles\, from folk\, to country to rock to pop\, and way beyond. You have to be pretty smart to get Heywood at his deepest level (he demands a high level of pop culture literacy)\, but you can also enjoy him just for his vocal style impersonations\, expert musicianship and just plain silliness. But why trust our opinions? Come and see for yourself!
URL:https://theark.org/event/heywood-banks-230121/
LOCATION:The Ark\, 316 S. Main\, Ann Arbor\, MI\, 48104\, United States
ATTACH;FMTTYPE=image/jpeg:https://theark.org/wp-content/uploads/2021/11/Heywood_Banks_FF2012_credit_Andy-Rogers-scaled-1.jpg
END:VEVENT
END:VCALENDAR