BEGIN:VCALENDAR
VERSION:2.0
PRODID:-//The Ark - ECPv6.15.20//NONSGML v1.0//EN
CALSCALE:GREGORIAN
METHOD:PUBLISH
X-ORIGINAL-URL:https://theark.org
X-WR-CALDESC:Events for The Ark
REFRESH-INTERVAL;VALUE=DURATION:PT1H
X-Robots-Tag:noindex
X-PUBLISHED-TTL:PT1H
BEGIN:VTIMEZONE
TZID:America/Detroit
BEGIN:DAYLIGHT
TZOFFSETFROM:-0500
TZOFFSETTO:-0400
TZNAME:EDT
DTSTART:20220313T070000
END:DAYLIGHT
BEGIN:STANDARD
TZOFFSETFROM:-0400
TZOFFSETTO:-0500
TZNAME:EST
DTSTART:20221106T060000
END:STANDARD
BEGIN:DAYLIGHT
TZOFFSETFROM:-0500
TZOFFSETTO:-0400
TZNAME:EDT
DTSTART:20230312T070000
END:DAYLIGHT
BEGIN:STANDARD
TZOFFSETFROM:-0400
TZOFFSETTO:-0500
TZNAME:EST
DTSTART:20231105T060000
END:STANDARD
BEGIN:DAYLIGHT
TZOFFSETFROM:-0500
TZOFFSETTO:-0400
TZNAME:EDT
DTSTART:20240310T070000
END:DAYLIGHT
BEGIN:STANDARD
TZOFFSETFROM:-0400
TZOFFSETTO:-0500
TZNAME:EST
DTSTART:20241103T060000
END:STANDARD
END:VTIMEZONE
BEGIN:VEVENT
DTSTART;TZID=America/Detroit:20230115T193000
DTEND;TZID=America/Detroit:20230115T230000
DTSTAMP:20260421T140239
CREATED:20221103T140034Z
LAST-MODIFIED:20221103T140034Z
UID:10000207-1673811000-1673823600@theark.org
SUMMARY:The Brother Brothers
DESCRIPTION:Please review The Ark’s current COVID-related information before attending a show.\nCOVID-19 FAQ \nThe Brother Brothers\, twins\, are Brooklyn’s Adam and Davis Moss. They offer rich harmonies and thoughtful songs accompanied by guitar\, cello\, violin\, and banjo in a coherent way that only musicians from the same family can achieve.  Already established players and composers in a wide spectrum of genres around New York and beyond\, they have teamed up to bring their individual experiences together. Among their fans is Sarah Jarosz\, who raves: “They approach their poignant and often charming songs with an almost startling sense of ease\, and the tight harmonies are enough to send shivers down anyone’s spine. Their ability to pull the listener into their quietly energetic musical journey is a joy to behold.” The Brother Brothers come to Michigan with a new album\, “Cover to Cover.” \n 
URL:https://theark.org/event/the-brother-brothers-230115/
LOCATION:The Ark\, 316 S. Main\, Ann Arbor\, MI\, 48104\, United States
ATTACH;FMTTYPE=image/jpeg:https://theark.org/wp-content/uploads/2022/11/Brother-Brothers.jpg
END:VEVENT
END:VCALENDAR