BEGIN:VCALENDAR
VERSION:2.0
PRODID:-//The Ark - ECPv6.15.20//NONSGML v1.0//EN
CALSCALE:GREGORIAN
METHOD:PUBLISH
X-ORIGINAL-URL:https://theark.org
X-WR-CALDESC:Events for The Ark
REFRESH-INTERVAL;VALUE=DURATION:PT1H
X-Robots-Tag:noindex
X-PUBLISHED-TTL:PT1H
BEGIN:VTIMEZONE
TZID:America/Detroit
BEGIN:DAYLIGHT
TZOFFSETFROM:-0500
TZOFFSETTO:-0400
TZNAME:EDT
DTSTART:20220313T070000
END:DAYLIGHT
BEGIN:STANDARD
TZOFFSETFROM:-0400
TZOFFSETTO:-0500
TZNAME:EST
DTSTART:20221106T060000
END:STANDARD
BEGIN:DAYLIGHT
TZOFFSETFROM:-0500
TZOFFSETTO:-0400
TZNAME:EDT
DTSTART:20230312T070000
END:DAYLIGHT
BEGIN:STANDARD
TZOFFSETFROM:-0400
TZOFFSETTO:-0500
TZNAME:EST
DTSTART:20231105T060000
END:STANDARD
BEGIN:DAYLIGHT
TZOFFSETFROM:-0500
TZOFFSETTO:-0400
TZNAME:EDT
DTSTART:20240310T070000
END:DAYLIGHT
BEGIN:STANDARD
TZOFFSETFROM:-0400
TZOFFSETTO:-0500
TZNAME:EST
DTSTART:20241103T060000
END:STANDARD
END:VTIMEZONE
BEGIN:VEVENT
DTSTART;TZID=America/Detroit:20230113T200000
DTEND;TZID=America/Detroit:20230113T230000
DTSTAMP:20260421T223511
CREATED:20221110T150042Z
LAST-MODIFIED:20221110T150042Z
UID:10000211-1673640000-1673650800@theark.org
SUMMARY:The Hot Club of Cowtown & Tyler Hilton
DESCRIPTION:Please review The Ark’s current COVID-related information before attending a show.\nCOVID-19 FAQ \nCelebrating Elvis Presley’s records from Sun Studio \nKnown for its legendary music collection\, including the early albums of Elvis Presley\, Sun Studio left an indelible mark on the history of rock ‘n’ roll. In 2005\, Tyler Hilton was cast to play the legendary rock star in the blockbuster biopic\, Walk the Line (starring Joaquin Phoenix as Johnny Cash). Now Tyler has teamed up with America’s premiere hot jazz and Western swing trio\, Hot Club of Cowtown\, bringing Elvis’ greatest hits from the Sun Studio years to life on the stage. The Hot Club of Cowtown has been an Ark favorite for years\, but they’ve continued to break new ground since first visiting Ann Arbor in the 1990s\, and this new show is no exception. Both The Hot Club of Cowtown and Tyler Hilton will perform their own material\, and then they’ll join forces for the Elvis material—which is very much in the Hot Club’s wheelhouse.
URL:https://theark.org/event/the-hot-club-of-cowtown-tyler-hilton/
LOCATION:The Ark\, 316 S. Main\, Ann Arbor\, MI\, 48104\, United States
ATTACH;FMTTYPE=image/jpeg:https://theark.org/wp-content/uploads/2021/10/HCCT-May-2021-Austin-TX-Photo-Credit-Hot-Club-of-Cowtown-scaled-1.jpeg
END:VEVENT
END:VCALENDAR