BEGIN:VCALENDAR
VERSION:2.0
PRODID:-//The Ark - ECPv6.15.20//NONSGML v1.0//EN
CALSCALE:GREGORIAN
METHOD:PUBLISH
X-WR-CALNAME:The Ark
X-ORIGINAL-URL:https://theark.org
X-WR-CALDESC:Events for The Ark
REFRESH-INTERVAL;VALUE=DURATION:PT1H
X-Robots-Tag:noindex
X-PUBLISHED-TTL:PT1H
BEGIN:VTIMEZONE
TZID:America/Detroit
BEGIN:DAYLIGHT
TZOFFSETFROM:-0500
TZOFFSETTO:-0400
TZNAME:EDT
DTSTART:20220313T070000
END:DAYLIGHT
BEGIN:STANDARD
TZOFFSETFROM:-0400
TZOFFSETTO:-0500
TZNAME:EST
DTSTART:20221106T060000
END:STANDARD
BEGIN:DAYLIGHT
TZOFFSETFROM:-0500
TZOFFSETTO:-0400
TZNAME:EDT
DTSTART:20230312T070000
END:DAYLIGHT
BEGIN:STANDARD
TZOFFSETFROM:-0400
TZOFFSETTO:-0500
TZNAME:EST
DTSTART:20231105T060000
END:STANDARD
BEGIN:DAYLIGHT
TZOFFSETFROM:-0500
TZOFFSETTO:-0400
TZNAME:EDT
DTSTART:20240310T070000
END:DAYLIGHT
BEGIN:STANDARD
TZOFFSETFROM:-0400
TZOFFSETTO:-0500
TZNAME:EST
DTSTART:20241103T060000
END:STANDARD
END:VTIMEZONE
BEGIN:VEVENT
DTSTART;TZID=America/Detroit:20230108T193000
DTEND;TZID=America/Detroit:20230108T230000
DTSTAMP:20260422T060247
CREATED:20221201T150054Z
LAST-MODIFIED:20221201T150054Z
UID:10000221-1673206200-1673218800@theark.org
SUMMARY:Lily Talmers
DESCRIPTION:Please review The Ark’s current COVID-related information before attending a show.\nCOVID-19 FAQ \nLily Talmers hopes her voice will lull you into Midwestern-accent-induced submission. A metro Detroit native who now resides in Brooklyn\, New York\, Lily released her second full-length album\, “Hope is the Whore I Go To\,” last July. A writer\, musician\, educator\, lecturer and former Ann Arbor community member\, Lily studied comparative literature\, and ethnomusicology during her undergraduate years at the University of Michigan. She is a teacher during the spring at the University of Michigan’s New England Literature program\, and has taught as a guest lecturer through the U-M’s Residential College and Performing Arts Technology Programs. With a voice described as ethereal\, and lyricism as wistful as it is cutting\, Lily credits the likes of Joni Mitchell\, Paul Simon\, Gillian Welch and Leonard Cohen for her beginnings as a songwriter\, and various odds and ends for her development as a musician and instrumentalist. Her sound is rooted in the 60’s folk revival\, with moments that reveal her broad fascination with music— the influence of Greek\, Lusophone\, and classical music all subtly swirl around in her melodies. Brooklyn singer and composer John Cushing provides support.
URL:https://theark.org/event/lily-talmers-230108/
LOCATION:The Ark\, 316 S. Main\, Ann Arbor\, MI\, 48104\, United States
ATTACH;FMTTYPE=image/jpeg:https://theark.org/wp-content/uploads/2022/11/Lily-Talmers.jpg
END:VEVENT
END:VCALENDAR