BEGIN:VCALENDAR
VERSION:2.0
PRODID:-//The Ark - ECPv6.15.20//NONSGML v1.0//EN
CALSCALE:GREGORIAN
METHOD:PUBLISH
X-WR-CALNAME:The Ark
X-ORIGINAL-URL:https://theark.org
X-WR-CALDESC:Events for The Ark
REFRESH-INTERVAL;VALUE=DURATION:PT1H
X-Robots-Tag:noindex
X-PUBLISHED-TTL:PT1H
BEGIN:VTIMEZONE
TZID:America/Detroit
BEGIN:DAYLIGHT
TZOFFSETFROM:-0500
TZOFFSETTO:-0400
TZNAME:EDT
DTSTART:20220313T070000
END:DAYLIGHT
BEGIN:STANDARD
TZOFFSETFROM:-0400
TZOFFSETTO:-0500
TZNAME:EST
DTSTART:20221106T060000
END:STANDARD
BEGIN:DAYLIGHT
TZOFFSETFROM:-0500
TZOFFSETTO:-0400
TZNAME:EDT
DTSTART:20230312T070000
END:DAYLIGHT
BEGIN:STANDARD
TZOFFSETFROM:-0400
TZOFFSETTO:-0500
TZNAME:EST
DTSTART:20231105T060000
END:STANDARD
BEGIN:DAYLIGHT
TZOFFSETFROM:-0500
TZOFFSETTO:-0400
TZNAME:EDT
DTSTART:20240310T070000
END:DAYLIGHT
BEGIN:STANDARD
TZOFFSETFROM:-0400
TZOFFSETTO:-0500
TZNAME:EST
DTSTART:20241103T060000
END:STANDARD
END:VTIMEZONE
BEGIN:VEVENT
DTSTART;TZID=America/Detroit:20230107T200000
DTEND;TZID=America/Detroit:20230107T230000
DTSTAMP:20260421T103730
CREATED:20221027T140058Z
LAST-MODIFIED:20221027T140058Z
UID:10000202-1673121600-1673132400@theark.org
SUMMARY:Yellow Room Gang
DESCRIPTION:Please review The Ark’s current COVID-related information before attending a show.\nCOVID-19 FAQ \nThe Yellow Room is the “brilliantly yellow” living room of Tamulevich’s house on Ann Arbor’s Old West Side\, where gang members meet monthly for musical brainstorming and mutual critique. Tonight’s show features all eight members of the gang: contemporary country-folk road warrior Annie Capps\, Irish-American chanteuse Kitty Donohoe\, four-time Detroit Music Award winner Jan Krist\, Michael Hough and David Tamulevich of the “Music to Cure What Ails You” duo Mustard’s Retreat\, Jim Bizer\, David Barrett\, and southeastern Michigan folk veteran Matt Watroba. Come and be a fly on the wall as the exchange of creative ideas flows freely! “To have any one of these songwriters perform at Trinity House is a real treat\,” says promoter Bill Keith. “To have them perform together is unbelievable.” The Yellow Room Gang has been around for 15 years now\, with all the members coming up with new music all the while.
URL:https://theark.org/event/yellow-room-gang-230107/
LOCATION:The Ark\, 316 S. Main\, Ann Arbor\, MI\, 48104\, United States
ATTACH;FMTTYPE=image/jpeg:https://theark.org/wp-content/uploads/2021/10/YellowRoomGang_4.jpg
END:VEVENT
END:VCALENDAR