BEGIN:VCALENDAR
VERSION:2.0
PRODID:-//The Ark - ECPv6.15.20//NONSGML v1.0//EN
CALSCALE:GREGORIAN
METHOD:PUBLISH
X-WR-CALNAME:The Ark
X-ORIGINAL-URL:https://theark.org
X-WR-CALDESC:Events for The Ark
REFRESH-INTERVAL;VALUE=DURATION:PT1H
X-Robots-Tag:noindex
X-PUBLISHED-TTL:PT1H
BEGIN:VTIMEZONE
TZID:America/Detroit
BEGIN:DAYLIGHT
TZOFFSETFROM:-0500
TZOFFSETTO:-0400
TZNAME:EDT
DTSTART:20210314T070000
END:DAYLIGHT
BEGIN:STANDARD
TZOFFSETFROM:-0400
TZOFFSETTO:-0500
TZNAME:EST
DTSTART:20211107T060000
END:STANDARD
BEGIN:DAYLIGHT
TZOFFSETFROM:-0500
TZOFFSETTO:-0400
TZNAME:EDT
DTSTART:20220313T070000
END:DAYLIGHT
BEGIN:STANDARD
TZOFFSETFROM:-0400
TZOFFSETTO:-0500
TZNAME:EST
DTSTART:20221106T060000
END:STANDARD
BEGIN:DAYLIGHT
TZOFFSETFROM:-0500
TZOFFSETTO:-0400
TZNAME:EDT
DTSTART:20230312T070000
END:DAYLIGHT
BEGIN:STANDARD
TZOFFSETFROM:-0400
TZOFFSETTO:-0500
TZNAME:EST
DTSTART:20231105T060000
END:STANDARD
END:VTIMEZONE
BEGIN:VEVENT
DTSTART;TZID=America/Detroit:20221230T200000
DTEND;TZID=America/Detroit:20221230T230000
DTSTAMP:20260420T171034
CREATED:20221020T140058Z
LAST-MODIFIED:20221020T140058Z
UID:10000196-1672430400-1672441200@theark.org
SUMMARY:Crossroads Ceili
DESCRIPTION:Please review The Ark’s current COVID-related information before attending a show.\nCOVID-19 FAQ \nThe Ark’s annual Crossroads Ceili is a great way to mark the turning of the year. It’s a gathering of local Celtic-oriented singers\, instrumentalists\, and dancers\, all sharing the stage to get your Celtic music year off to a good start. If you’d like to get an idea of the depth of southeastern Michigan’s Celtic music scene\, the Ceili is a great place to do it. Fiddler Mick Gavin\, the organizer of the Ceili and a frequent performer there\, was recently inducted into the Irish Music Hall of Fame. 
URL:https://theark.org/event/crossroads-ceili-221230/
LOCATION:The Ark\, 316 S. Main\, Ann Arbor\, MI\, 48104\, United States
ATTACH;FMTTYPE=image/jpeg:https://theark.org/wp-content/uploads/2022/10/Gavins-at-The-Ark.jpg
END:VEVENT
END:VCALENDAR