BEGIN:VCALENDAR
VERSION:2.0
PRODID:-//The Ark - ECPv6.15.20//NONSGML v1.0//EN
CALSCALE:GREGORIAN
METHOD:PUBLISH
X-WR-CALNAME:The Ark
X-ORIGINAL-URL:https://theark.org
X-WR-CALDESC:Events for The Ark
REFRESH-INTERVAL;VALUE=DURATION:PT1H
X-Robots-Tag:noindex
X-PUBLISHED-TTL:PT1H
BEGIN:VTIMEZONE
TZID:America/Detroit
BEGIN:DAYLIGHT
TZOFFSETFROM:-0500
TZOFFSETTO:-0400
TZNAME:EDT
DTSTART:20210314T070000
END:DAYLIGHT
BEGIN:STANDARD
TZOFFSETFROM:-0400
TZOFFSETTO:-0500
TZNAME:EST
DTSTART:20211107T060000
END:STANDARD
BEGIN:DAYLIGHT
TZOFFSETFROM:-0500
TZOFFSETTO:-0400
TZNAME:EDT
DTSTART:20220313T070000
END:DAYLIGHT
BEGIN:STANDARD
TZOFFSETFROM:-0400
TZOFFSETTO:-0500
TZNAME:EST
DTSTART:20221106T060000
END:STANDARD
BEGIN:DAYLIGHT
TZOFFSETFROM:-0500
TZOFFSETTO:-0400
TZNAME:EDT
DTSTART:20230312T070000
END:DAYLIGHT
BEGIN:STANDARD
TZOFFSETFROM:-0400
TZOFFSETTO:-0500
TZNAME:EST
DTSTART:20231105T060000
END:STANDARD
END:VTIMEZONE
BEGIN:VEVENT
DTSTART;TZID=America/Detroit:20221229T200000
DTEND;TZID=America/Detroit:20221229T230000
DTSTAMP:20260420T094156
CREATED:20221117T150042Z
LAST-MODIFIED:20221117T150042Z
UID:10000216-1672344000-1672354800@theark.org
SUMMARY:The Music of Fela Kuti Comes to Life
DESCRIPTION:Please review The Ark’s current COVID-related information before attending a show.\nCOVID-19 FAQ \nDoubling as a platform for activism\, the music of Fela Kuti was a unique blend of jazz\, funk\, and African influences. Performed by an African big-band of unusual instrumentation\, Fela’s music rolled out in an extended\, hypnotic fashion. His political vocals fell somewhere between melody and musical speech. While the Afrobeat music of Nigeria’s Fela Kuti remains singularly unique\, it typically fails to gain deserved attention in the world of modern-day performance. \nJoin us for a rare opportunity to hear this music authentically reproduced. Originally sponsored by the University of Michigan “MCube” initiative\, this performance unites UofM faculty & musicians from the Flint and Ann Arbor campuses with local professionals. The project\, lead by Brian DiBlassio\, is based on note-for-note transcriptions of Fela’s work\, with feature artist from Cincinnati\, Baoku Moses\, performing the role of Fela. \nBand members include Ingrid Racine\, Andrew Bishop\, Alex Harding\, Brian DiBlassio\, Ben Rolston\, Jonathan Ovalle\, Owl DiBlassio\, Olman Piedra\, Ray Ureña\, and Ann Watson. \n 
URL:https://theark.org/event/the-music-of-fela-kuti-comes-to-life-231229/
LOCATION:The Ark\, 316 S. Main\, Ann Arbor\, MI\, 48104\, United States
ATTACH;FMTTYPE=image/png:https://theark.org/wp-content/uploads/2022/11/FelaKuti-artists-web-fnl.png
END:VEVENT
END:VCALENDAR