BEGIN:VCALENDAR
VERSION:2.0
PRODID:-//The Ark - ECPv6.15.20//NONSGML v1.0//EN
CALSCALE:GREGORIAN
METHOD:PUBLISH
X-ORIGINAL-URL:https://theark.org
X-WR-CALDESC:Events for The Ark
REFRESH-INTERVAL;VALUE=DURATION:PT1H
X-Robots-Tag:noindex
X-PUBLISHED-TTL:PT1H
BEGIN:VTIMEZONE
TZID:America/Detroit
BEGIN:DAYLIGHT
TZOFFSETFROM:-0500
TZOFFSETTO:-0400
TZNAME:EDT
DTSTART:20210314T070000
END:DAYLIGHT
BEGIN:STANDARD
TZOFFSETFROM:-0400
TZOFFSETTO:-0500
TZNAME:EST
DTSTART:20211107T060000
END:STANDARD
BEGIN:DAYLIGHT
TZOFFSETFROM:-0500
TZOFFSETTO:-0400
TZNAME:EDT
DTSTART:20220313T070000
END:DAYLIGHT
BEGIN:STANDARD
TZOFFSETFROM:-0400
TZOFFSETTO:-0500
TZNAME:EST
DTSTART:20221106T060000
END:STANDARD
BEGIN:DAYLIGHT
TZOFFSETFROM:-0500
TZOFFSETTO:-0400
TZNAME:EDT
DTSTART:20230312T070000
END:DAYLIGHT
BEGIN:STANDARD
TZOFFSETFROM:-0400
TZOFFSETTO:-0500
TZNAME:EST
DTSTART:20231105T060000
END:STANDARD
END:VTIMEZONE
BEGIN:VEVENT
DTSTART;TZID=America/Detroit:20221217T200000
DTEND;TZID=America/Detroit:20221217T230000
DTSTAMP:20260420T040126
CREATED:20220324T140003Z
LAST-MODIFIED:20220324T140003Z
UID:10000154-1671307200-1671318000@theark.org
SUMMARY:Blackthorn
DESCRIPTION:Please review The Ark’s current COVID-related information before attending a show. \nCOVID-19 FAQ \nBlackthorn welcomes you to the rich tapestry of Celtic music. \nTraditional songs of emigration\, sea shanties\, lively jigs and reels\, and ancient airs combine with some of Ireland’s best contemporary songs for a musical experience that captures the history and legend of Ireland and its people. \nWhat makes a Blackthorn show unique is the variety of tunes\, tempos and textures. Each member of the band plays multiple instruments\, including wooden flute\, accordion\, tin whistle\, five string banjo\, cittern\, bones and more. These instruments complement the lead vocal of Belfast native Richard McMullan and the band’s tight blend of four part harmony. \nBlackthorn has played throughout the Great Lakes region since 1984. Based in Detroit\, they can be found regularly at O’Mara’s Pub and Restaurant in Berkley. Other venues include concert halls\, universities and festivals\, including main stage appearances at the prestigious Michigan Irish Festival and world renowned Milwaukee Irish Fest. \nMetro Detroiters fondly remember Blackthorn’s annual appearances on J. P. McCarthy’s St. Patrick’s Day show on WJR radio in the 1980s and 1990s\, and later with Paul W. Smith. They have released seven CDs\, and have performed with guest musicians such as members of the Michigan Opera Theater and the Motor City Brass Band. In 2010\, Blackthorn was voted “Best Folk Band/Artist” by the readers of The Detroit Metro Times. \nFrom large festival\, to pub\, restaurant or intimate performing arts center\, Blackthorn provides time tested entertainment. Chuck Ward of the Milwaukee Irish Fest says this about the band\, “Blackthorn was very well received at Milwaukee Irish Fest\, they impressed everyone with their strong and well blended songs. They are strong ambassadors in their commitment to continuing the Irish ballad tradition and a crowd pleasing addition to any festival.”
URL:https://theark.org/event/blackthorn-221217/
LOCATION:The Ark\, 316 S. Main\, Ann Arbor\, MI\, 48104\, United States
ATTACH;FMTTYPE=image/jpeg:https://theark.org/wp-content/uploads/2021/10/Blackthorn_2.jpg
END:VEVENT
END:VCALENDAR