BEGIN:VCALENDAR
VERSION:2.0
PRODID:-//The Ark - ECPv6.15.20//NONSGML v1.0//EN
CALSCALE:GREGORIAN
METHOD:PUBLISH
X-ORIGINAL-URL:https://theark.org
X-WR-CALDESC:Events for The Ark
REFRESH-INTERVAL;VALUE=DURATION:PT1H
X-Robots-Tag:noindex
X-PUBLISHED-TTL:PT1H
BEGIN:VTIMEZONE
TZID:America/Detroit
BEGIN:DAYLIGHT
TZOFFSETFROM:-0500
TZOFFSETTO:-0400
TZNAME:EDT
DTSTART:20210314T070000
END:DAYLIGHT
BEGIN:STANDARD
TZOFFSETFROM:-0400
TZOFFSETTO:-0500
TZNAME:EST
DTSTART:20211107T060000
END:STANDARD
BEGIN:DAYLIGHT
TZOFFSETFROM:-0500
TZOFFSETTO:-0400
TZNAME:EDT
DTSTART:20220313T070000
END:DAYLIGHT
BEGIN:STANDARD
TZOFFSETFROM:-0400
TZOFFSETTO:-0500
TZNAME:EST
DTSTART:20221106T060000
END:STANDARD
BEGIN:DAYLIGHT
TZOFFSETFROM:-0500
TZOFFSETTO:-0400
TZNAME:EDT
DTSTART:20230312T070000
END:DAYLIGHT
BEGIN:STANDARD
TZOFFSETFROM:-0400
TZOFFSETTO:-0500
TZNAME:EST
DTSTART:20231105T060000
END:STANDARD
END:VTIMEZONE
BEGIN:VEVENT
DTSTART;TZID=America/Detroit:20221215T200000
DTEND;TZID=America/Detroit:20221215T230000
DTSTAMP:20260419T153745
CREATED:20220811T140036Z
LAST-MODIFIED:20220811T140036Z
UID:10000171-1671134400-1671145200@theark.org
SUMMARY:Ocean Quartet
DESCRIPTION:Please review The Ark’s current COVID-related information before attending a show. \nCOVID-19 FAQ \nThe OCEAN Celtic Quartet will transport you to the Yuletide celebrations of yore in a program featuring traditional carols\, foot-stomping Celtic fiddle tunes\, 19th century broadside songs\, original seasonal compositions\, and even an appearance by Father Christmas of the old mummers plays! With their soaring vocals and high-energy Celtic instrumentals\, OCEAN is known for marrying lighthearted exuberance with great spiritual depth in a program that appeals to all faiths and wisdom traditions. Come in good voice\, as you’ll be invited to sing along! \nSo come on out and celebrate the magic of Christmas and the Winter Solstice in cozy fellowship. This boisterous concert will include British Mummer’s play recitations\, traditional English and French carols\, Scottish & Irish fiddle tunes\, 19th century broadside songs\, and original seasonal compositions celebrating both the joy of the season of light and the introspection of the dark half of the year. The OCEAN Celtic Quartet is led by composer and ethnomusicologist JENNIFER CUTTING (accordion and keyboards)\, a Washington Area Music Association Musician of the Year and Songwriter of the Year. OCEAN features the stunning vocalist CHRISTINE NOYES (formerly of the maritime music group Crab Alley)\, folklorist/vocalist/percussionist STEPHEN WINICK\, plus U.S. National Scottish Fiddle champion SEÁN HEELY. Cutting’s original anthem\, “Song of Solstice\,” has become a classic on Celtic and Folk radio\, and the title cut of OCEAN’s newest CD\, “The Turning Year\,” reached #1 Song on the Folk Radio charts for December 2021. Come prepared to sing along with OCEAN on these and other seasonal songs ancient and modern!
URL:https://theark.org/event/ocean-quartet-221215/
LOCATION:The Ark\, 316 S. Main\, Ann Arbor\, MI\, 48104\, United States
ATTACH;FMTTYPE=image/jpeg:https://theark.org/wp-content/uploads/2022/08/OCEAN-Celtic-Quartet-Holiday-Photo-2022-Final-scaled-1.jpg
END:VEVENT
END:VCALENDAR