BEGIN:VCALENDAR
VERSION:2.0
PRODID:-//The Ark - ECPv6.15.20//NONSGML v1.0//EN
CALSCALE:GREGORIAN
METHOD:PUBLISH
X-ORIGINAL-URL:https://theark.org
X-WR-CALDESC:Events for The Ark
REFRESH-INTERVAL;VALUE=DURATION:PT1H
X-Robots-Tag:noindex
X-PUBLISHED-TTL:PT1H
BEGIN:VTIMEZONE
TZID:America/Detroit
BEGIN:DAYLIGHT
TZOFFSETFROM:-0500
TZOFFSETTO:-0400
TZNAME:EDT
DTSTART:20210314T070000
END:DAYLIGHT
BEGIN:STANDARD
TZOFFSETFROM:-0400
TZOFFSETTO:-0500
TZNAME:EST
DTSTART:20211107T060000
END:STANDARD
BEGIN:DAYLIGHT
TZOFFSETFROM:-0500
TZOFFSETTO:-0400
TZNAME:EDT
DTSTART:20220313T070000
END:DAYLIGHT
BEGIN:STANDARD
TZOFFSETFROM:-0400
TZOFFSETTO:-0500
TZNAME:EST
DTSTART:20221106T060000
END:STANDARD
BEGIN:DAYLIGHT
TZOFFSETFROM:-0500
TZOFFSETTO:-0400
TZNAME:EDT
DTSTART:20230312T070000
END:DAYLIGHT
BEGIN:STANDARD
TZOFFSETFROM:-0400
TZOFFSETTO:-0500
TZNAME:EST
DTSTART:20231105T060000
END:STANDARD
END:VTIMEZONE
BEGIN:VEVENT
DTSTART;TZID=America/Detroit:20221210T140000
DTEND;TZID=America/Detroit:20221210T153000
DTSTAMP:20260422T064718
CREATED:20221006T184420Z
LAST-MODIFIED:20221006T184420Z
UID:10000192-1670680800-1670686200@theark.org
SUMMARY:15th Annual Ebird & Friends Holiday Show
DESCRIPTION:Please review The Ark’s current COVID-related information before attending a show. \nCOVID-19 FAQ \nCelebrating its 15th anniversary\, the Ebird and Friends Holiday Show has become known for connecting audiences with stellar artists in the Michigan music community.  This year’s featured performers are Tunde Olaniran\, Emilee Petersmark\, Timothy Monger\, Chris Dupont\, and Kylee Phillips. \nFour performances of this festive revue will occur December 8th through 10th. Produced by Erin Zindle\, the singer\, songwriter & multi-instrumentalist of Erin Zindle & the Ragbirds\, this concert series has become the most warm-hearted way to begin the holiday season.  Comedienne\, businesswoman\, and life-coach Shelly Smith will emcee the proceedings and introduce the top talent of our region.  Each bandleaders in their own right: vocals by Jen Sygit and Jess Merritt; strings by Brad Phillips\, Aaron Jonah Lewis\, Jona Vibrato\, and Mark Lavengood; brass by Ross Huff\, Tim Haldeman and Terry Kimura; the rhythm section comprising Brennan Andes\, Jon Brown\, and Dan Piccolo; all of whom appear alongside The Ragbirds: Erin Zindle\, Loren Kranz\, TJ Zindle\, and Shannon Wade. \nThis unique concert showcases a creative approach to seasonal music\, old chestnuts\, deep cuts\, and original tunes from a wide range of genres and traditions.  These songs bring us in from the cold and connect us in the spirit of the season.
URL:https://theark.org/event/15th-annual-ebird-friends-holiday-show-221210-2pm/
LOCATION:The Ark\, 316 S. Main\, Ann Arbor\, MI\, 48104\, United States
ATTACH;FMTTYPE=image/jpeg:https://theark.org/wp-content/uploads/2022/10/2022-Ebird-graphic-landscape.jpg
END:VEVENT
BEGIN:VEVENT
DTSTART;TZID=America/Detroit:20221210T200000
DTEND;TZID=America/Detroit:20221210T230000
DTSTAMP:20260422T064718
CREATED:20221006T140044Z
LAST-MODIFIED:20221006T140044Z
UID:10000191-1670702400-1670713200@theark.org
SUMMARY:15th Annual Ebird & Friends Holiday Show
DESCRIPTION:Please review The Ark’s current COVID-related information before attending a show. \nCOVID-19 FAQ \nCelebrating its 15th anniversary\, the Ebird and Friends Holiday Show has become known for connecting audiences with stellar artists in the Michigan music community.  This year’s featured performers are Tunde Olaniran\, Emilee Petersmark\, Timothy Monger\, Chris Dupont\, and Kylee Phillips. \nFour performances of this festive revue will occur December 8th through 10th. Produced by Erin Zindle\, the singer\, songwriter & multi-instrumentalist of Erin Zindle & the Ragbirds\, this concert series has become the most warm-hearted way to begin the holiday season.  Comedienne\, businesswoman\, and life-coach Shelly Smith will emcee the proceedings and introduce the top talent of our region.  Each bandleaders in their own right: vocals by Jen Sygit and Jess Merritt; strings by Brad Phillips\, Aaron Jonah Lewis\, Jona Vibrato\, and Mark Lavengood; brass by Ross Huff\, Tim Haldeman and Terry Kimura; the rhythm section comprising Brennan Andes\, Jon Brown\, and Dan Piccolo; all of whom appear alongside The Ragbirds: Erin Zindle\, Loren Kranz\, TJ Zindle\, and Shannon Wade. \nThis unique concert showcases a creative approach to seasonal music\, old chestnuts\, deep cuts\, and original tunes from a wide range of genres and traditions.  These songs bring us in from the cold and connect us in the spirit of the season.
URL:https://theark.org/event/15th-annual-ebird-friends-holiday-show-221210/
LOCATION:The Ark\, 316 S. Main\, Ann Arbor\, MI\, 48104\, United States
ATTACH;FMTTYPE=image/jpeg:https://theark.org/wp-content/uploads/2022/10/2022-Ebird-graphic-landscape.jpg
END:VEVENT
END:VCALENDAR