BEGIN:VCALENDAR
VERSION:2.0
PRODID:-//The Ark - ECPv6.15.20//NONSGML v1.0//EN
CALSCALE:GREGORIAN
METHOD:PUBLISH
X-ORIGINAL-URL:https://theark.org
X-WR-CALDESC:Events for The Ark
REFRESH-INTERVAL;VALUE=DURATION:PT1H
X-Robots-Tag:noindex
X-PUBLISHED-TTL:PT1H
BEGIN:VTIMEZONE
TZID:America/Detroit
BEGIN:DAYLIGHT
TZOFFSETFROM:-0500
TZOFFSETTO:-0400
TZNAME:EDT
DTSTART:20210314T070000
END:DAYLIGHT
BEGIN:STANDARD
TZOFFSETFROM:-0400
TZOFFSETTO:-0500
TZNAME:EST
DTSTART:20211107T060000
END:STANDARD
BEGIN:DAYLIGHT
TZOFFSETFROM:-0500
TZOFFSETTO:-0400
TZNAME:EDT
DTSTART:20220313T070000
END:DAYLIGHT
BEGIN:STANDARD
TZOFFSETFROM:-0400
TZOFFSETTO:-0500
TZNAME:EST
DTSTART:20221106T060000
END:STANDARD
BEGIN:DAYLIGHT
TZOFFSETFROM:-0500
TZOFFSETTO:-0400
TZNAME:EDT
DTSTART:20230312T070000
END:DAYLIGHT
BEGIN:STANDARD
TZOFFSETFROM:-0400
TZOFFSETTO:-0500
TZNAME:EST
DTSTART:20231105T060000
END:STANDARD
END:VTIMEZONE
BEGIN:VEVENT
DTSTART;TZID=America/Detroit:20221204T190000
DTEND;TZID=America/Detroit:20221204T230000
DTSTAMP:20260420T174001
CREATED:20220823T153212Z
LAST-MODIFIED:20220823T153212Z
UID:10000172-1670180400-1670194800@theark.org
SUMMARY:Trampled By Turtles
DESCRIPTION:Trampled by Turtles are from Duluth\, Minnesota\, where frontman Dave Simonett initially formed the group as a side project in 2003. At the time\, Simonett had lost most of his music gear\, thanks to a group of enterprising car thieves who’d ransacked his vehicle while he played a show with his previous band. Left with nothing more than an acoustic guitar\, he began piecing together a new band\, this time taking inspiration from bluegrass\, folk\, and other genres that didn’t rely on amplification. Simonett hadn’t played any bluegrass music before\, and he filled his lineup with other newcomers to the genre\, including fiddler Ryan Young (who’d previously played drums in a speed metal act) and bassist Tim Saxhaug. Along with mandolinist Erik Berry and banjo player Dave Carroll\, the group began carving out a fast\, frenetic sound that owed as much to rock & roll as bluegrass. \nTrampled by Turtles released their first record\, Songs from a Ghost Town\, in 2004. In a genre steeped in tradition\, the album stood out for its contemporary sound\, essentially bridging the gap between the bandmates’ background in rock music and their new acoustic leanings. Blue Sky and the Devil (2005) and Trouble (2007) explored a similar sound\, but it wasn’t until 2008 and the band’s fourth release\, Duluth\, that Trampled by Turtles received recognition by the bluegrass community. Duluth peaked at number eight on the Billboard bluegrass chart and paved the way for a number of festival appearances. When Palomino arrived in 2010\, it was met with an even greater response\, debuting at the top of the bluegrass chart and remaining in the Top Ten for more than a year. Two years later\, their crossover appeal landed them at number 32 on the Billboard 200 pop charts upon the release of their sixth album\, Stars and Satellites. In addition to major bluegrass and folk festivals\, they began showing up at Coachella\, ACL Fest\, and Lollapalooza. The official concert album\, Live at First Avenue\, followed in 2013\, recorded at Minnesota’s most famous venue. A year later\, the band returned with the darker-toned Wild Animals\, which bettered its studio predecessor on the album charts\, reaching number 29 on Billboard. Countless tours with bands like Lord Huron\, Wilco\, Caamp\, Mt Joy and Deer Tick to name a few have followed. 2022 will see the release of the band’s latest body of work called Alpenglow which was produced by Jeff Tweedy of Wilco. \n  \nFull Cord out of Grand Haven\, Michigan has been stealing the scene with an extraordinary song base that spans through originals\, newgrass\, traditional\, covers\, country\, Texas swing\, jazz and more. \nTheir infectious stage show and breadth of material pushed Full Cord through to a win of the 2022 Telluride Bluegrass Festival Band Competition in June and a nomination as the Momentum Band of the year at the upcoming International Bluegrass Music Awards.  With two shows never the same\, their followers in Michigan and beyond try to catch every show\, never knowing what teaser or new song will be in the set list.
URL:https://theark.org/event/trampled-by-turtles-221204/
LOCATION:The Majestic Theatre\, 4140 Woodward Ave.\, Detroit\, Michigan\, 48201\, United States
CATEGORIES:Special Event
ATTACH;FMTTYPE=image/jpeg:https://theark.org/wp-content/uploads/2022/08/TrampledByTurtles-promo-scaled-1.jpeg
END:VEVENT
BEGIN:VEVENT
DTSTART;TZID=America/Detroit:20221204T193000
DTEND;TZID=America/Detroit:20221204T230000
DTSTAMP:20260420T174001
CREATED:20220923T140013Z
LAST-MODIFIED:20220923T140013Z
UID:10000181-1670182200-1670194800@theark.org
SUMMARY:Chris Pureka
DESCRIPTION:Please review The Ark’s current COVID-related information before attending a show. \nCOVID-19 FAQ \nIt’s rare for an artist to bridge the divide between critical acclaim and dedicated fan engagement. Chris Pureka is a Portland-based singer-songwriter whose body of work has resonated deeply with these seemingly disparate milieus. Her music has straddled the folk\, americana and indie rock genres over the course of her 20 year career\, and over that time\, her bold vulnerability in processing the intimacies of life in song has struck a chord with those listeners who crave authenticity and depth. \nChris’s elegant emotionality as a vocalist and her flair as a lyricist have garnered her favorable comparisons to Chan Marshall\, Bruce Springsteen\, and Patty Griffin. Over many years of touring on both sides of the Atlantic\, she has shared the stage with such diverse and esteemed artists as The Lumineers\, Gregory Alan Isakov\, The Cowboy Junkies\, Haley Heynderickx\, and Ani DiFranco. She has had her songs featured on such television shows as Brothers and Sisters\, Covert Affairs and Shameless as well as a song featured in the Sundance featured indie film\, The Royal Road. Along the way\, Chris has remained truly independent\, selling nearly 50\,000 albums through her own label\, Sad Rabbit Records. Chris comes to The Ark fresh off a tour opening for Toad the Wet Sprocket. \nKnown for their gritty\, melodic indie pop songwriting\, opener John-Allison Weiss emerged at the end of the 2000s as an early crowd-funding hero with a strong D.I.Y. ethos that has defined them throughout their career. After establishing themselves among the punk underground\, they became a staple of the Warped Tour and released highly rated albums like 2013’s Say What You Mean and 2015’s New Love. Touring with everyone from Lou Reed to Letters to Cleo\, Weiss has also collaborated as a songwriter with artists including Tegan Quin and Kevin Devine. Following a live album and 2021’s Death Valley Demos EP\, they signed with Get Better Records and issued the singles “Different Now” and “Feels Like Hell” from their upcoming album ‘The Long Way’ out February 17th.
URL:https://theark.org/event/chris-pureka-221204/
LOCATION:The Ark\, 316 S. Main\, Ann Arbor\, MI\, 48104\, United States
ATTACH;FMTTYPE=image/jpeg:https://theark.org/wp-content/uploads/2022/09/chrispureka_horzphoto_2022-2-scaled-1.jpg
END:VEVENT
END:VCALENDAR