BEGIN:VCALENDAR
VERSION:2.0
PRODID:-//The Ark - ECPv6.15.20//NONSGML v1.0//EN
CALSCALE:GREGORIAN
METHOD:PUBLISH
X-ORIGINAL-URL:https://theark.org
X-WR-CALDESC:Events for The Ark
REFRESH-INTERVAL;VALUE=DURATION:PT1H
X-Robots-Tag:noindex
X-PUBLISHED-TTL:PT1H
BEGIN:VTIMEZONE
TZID:America/Detroit
BEGIN:DAYLIGHT
TZOFFSETFROM:-0500
TZOFFSETTO:-0400
TZNAME:EDT
DTSTART:20210314T070000
END:DAYLIGHT
BEGIN:STANDARD
TZOFFSETFROM:-0400
TZOFFSETTO:-0500
TZNAME:EST
DTSTART:20211107T060000
END:STANDARD
BEGIN:DAYLIGHT
TZOFFSETFROM:-0500
TZOFFSETTO:-0400
TZNAME:EDT
DTSTART:20220313T070000
END:DAYLIGHT
BEGIN:STANDARD
TZOFFSETFROM:-0400
TZOFFSETTO:-0500
TZNAME:EST
DTSTART:20221106T060000
END:STANDARD
BEGIN:DAYLIGHT
TZOFFSETFROM:-0500
TZOFFSETTO:-0400
TZNAME:EDT
DTSTART:20230312T070000
END:DAYLIGHT
BEGIN:STANDARD
TZOFFSETFROM:-0400
TZOFFSETTO:-0500
TZNAME:EST
DTSTART:20231105T060000
END:STANDARD
END:VTIMEZONE
BEGIN:VEVENT
DTSTART;TZID=America/Detroit:20221201T200000
DTEND;TZID=America/Detroit:20221201T230000
DTSTAMP:20260421T072023
CREATED:20221006T140039Z
LAST-MODIFIED:20221006T140039Z
UID:10000193-1669924800-1669935600@theark.org
SUMMARY:Rollie Tussing Trio
DESCRIPTION:Please review The Ark’s current COVID-related information before attending a show.\nCOVID-19 FAQ \nAward-winning guitarist\, educator\, and performer Rollie Tussing makes a raggedy brand of music informed by the era of 78 rpm records\, juke joints\, and street performers. He composes a lot of his own songs and has a knack for reworking an old obscure tune\, finding beauty in the forgotten scratches\, pops and grooves of his esoteric record collection. After winning the National Slide Guitar Competition in 2001 Rollie moved with his wife to Portland\, Oregon. He spent the next decade touring\, performing\, writing songs and playing with some of the best regional and touring musicians the West Coast offered. In 2011 with their second child on the way\, Rollie and his wife decided to relocate to the Midwest to be closer to family and to tap into the artistic resources in the nation’s midsection. There’s fingerstyle guitar\, forgotten old music\, and great old songs—a fabulous evening all around.
URL:https://theark.org/event/rollie-tussing-trio-221201/
LOCATION:The Ark\, 316 S. Main\, Ann Arbor\, MI\, 48104\, United States
ATTACH;FMTTYPE=image/jpeg:https://theark.org/wp-content/uploads/2022/10/Rollie-Tussing-photo-credit-Misty-Lyn.jpg
END:VEVENT
END:VCALENDAR