BEGIN:VCALENDAR
VERSION:2.0
PRODID:-//The Ark - ECPv6.15.20//NONSGML v1.0//EN
CALSCALE:GREGORIAN
METHOD:PUBLISH
X-ORIGINAL-URL:https://theark.org
X-WR-CALDESC:Events for The Ark
REFRESH-INTERVAL;VALUE=DURATION:PT1H
X-Robots-Tag:noindex
X-PUBLISHED-TTL:PT1H
BEGIN:VTIMEZONE
TZID:America/Detroit
BEGIN:DAYLIGHT
TZOFFSETFROM:-0500
TZOFFSETTO:-0400
TZNAME:EDT
DTSTART:20210314T070000
END:DAYLIGHT
BEGIN:STANDARD
TZOFFSETFROM:-0400
TZOFFSETTO:-0500
TZNAME:EST
DTSTART:20211107T060000
END:STANDARD
BEGIN:DAYLIGHT
TZOFFSETFROM:-0500
TZOFFSETTO:-0400
TZNAME:EDT
DTSTART:20220313T070000
END:DAYLIGHT
BEGIN:STANDARD
TZOFFSETFROM:-0400
TZOFFSETTO:-0500
TZNAME:EST
DTSTART:20221106T060000
END:STANDARD
BEGIN:DAYLIGHT
TZOFFSETFROM:-0500
TZOFFSETTO:-0400
TZNAME:EDT
DTSTART:20230312T070000
END:DAYLIGHT
BEGIN:STANDARD
TZOFFSETFROM:-0400
TZOFFSETTO:-0500
TZNAME:EST
DTSTART:20231105T060000
END:STANDARD
END:VTIMEZONE
BEGIN:VEVENT
DTSTART;TZID=America/Detroit:20221127T130000
DTEND;TZID=America/Detroit:20221127T140000
DTSTAMP:20260420T174154
CREATED:20221011T124340Z
LAST-MODIFIED:20221011T124340Z
UID:10000195-1669554000-1669557600@theark.org
SUMMARY:Gemily
DESCRIPTION:This event is free and streamed to The Ark’s Facebook page. \nGemini (twin brothers San and Laz Slomovits) have been Ark regulars\, appearing at the club at least once and usually several times every year since moving to Ann Arbor in 1973. Especially acclaimed for their shows for children and families\, they are now entertaining their third – or is it their fourth – generation of fans. They’ve played an annual family concert for Ark audiences on the Sunday after Thanksgiving every year since 1994 to benefit Mott Children’s Hospital\, where San’s daughter\, Emily was born. Emily will join the brothers for this show as she has every year since 2003 when she was just nine years old. The trio\, now redubbed Gemily\, (Gemini+Emily) combine wonderful singing and instrumental prowess on more than half a dozen instruments with lively\, sparkling original songs and traditional folk music from many countries and cultures. In addition to their exceptional musicianship\, the trio brings an easy stage presence to all their shows and draws their audiences into joyful music-making with them. \nThis year’s concert will again be online. \nTip jar will be available with donations going to support both C.S. Mott Childrens Hospital and Food Gatherers.
URL:https://theark.org/event/gemily-221127/
LOCATION:Facebook LIVE
CATEGORIES:Ford Family Series,Virtual Event
ATTACH;FMTTYPE=image/jpeg:https://theark.org/wp-content/uploads/2022/10/Gemily-2017-scaled-1.jpg
END:VEVENT
BEGIN:VEVENT
DTSTART;TZID=America/Detroit:20221127T193000
DTEND;TZID=America/Detroit:20221127T230000
DTSTAMP:20260420T174154
CREATED:20220324T140045Z
LAST-MODIFIED:20220324T140045Z
UID:10000153-1669577400-1669590000@theark.org
SUMMARY:The David Mayfield Parade
DESCRIPTION:Please review The Ark’s current COVID-related information before attending a show. \nCOVID-19 FAQ \nThe David Mayfield Parade offers music that stretches from the avant-garde to David Mayfield’s own musical roots\, which are buried deep in the bluegrass tradition from a childhood of touring with his family’s band. David’s music is a tour de force\, incorporating a vast range of roots and pop influences. David is truly a wordsmith\, forging the mundane into the evocative\, with innovative lyrics that grow acoustic beginnings into bigger pop structures and a great trembling tenor to cap it off.  David Mayfield is clearly going places\, fueled by a deadly combination of infectious energy and songwriting chops that only come around once in a blue moon.
URL:https://theark.org/event/the-david-mayfield-parade/
LOCATION:The Ark\, 316 S. Main\, Ann Arbor\, MI\, 48104\, United States
ATTACH;FMTTYPE=image/jpeg:https://theark.org/wp-content/uploads/2022/03/David-Mayfield-Parade-2019.jpg
END:VEVENT
END:VCALENDAR