BEGIN:VCALENDAR
VERSION:2.0
PRODID:-//The Ark - ECPv6.15.20//NONSGML v1.0//EN
CALSCALE:GREGORIAN
METHOD:PUBLISH
X-WR-CALNAME:The Ark
X-ORIGINAL-URL:https://theark.org
X-WR-CALDESC:Events for The Ark
REFRESH-INTERVAL;VALUE=DURATION:PT1H
X-Robots-Tag:noindex
X-PUBLISHED-TTL:PT1H
BEGIN:VTIMEZONE
TZID:America/Detroit
BEGIN:DAYLIGHT
TZOFFSETFROM:-0500
TZOFFSETTO:-0400
TZNAME:EDT
DTSTART:20210314T070000
END:DAYLIGHT
BEGIN:STANDARD
TZOFFSETFROM:-0400
TZOFFSETTO:-0500
TZNAME:EST
DTSTART:20211107T060000
END:STANDARD
BEGIN:DAYLIGHT
TZOFFSETFROM:-0500
TZOFFSETTO:-0400
TZNAME:EDT
DTSTART:20220313T070000
END:DAYLIGHT
BEGIN:STANDARD
TZOFFSETFROM:-0400
TZOFFSETTO:-0500
TZNAME:EST
DTSTART:20221106T060000
END:STANDARD
BEGIN:DAYLIGHT
TZOFFSETFROM:-0500
TZOFFSETTO:-0400
TZNAME:EDT
DTSTART:20230312T070000
END:DAYLIGHT
BEGIN:STANDARD
TZOFFSETFROM:-0400
TZOFFSETTO:-0500
TZNAME:EST
DTSTART:20231105T060000
END:STANDARD
END:VTIMEZONE
BEGIN:VEVENT
DTSTART;TZID=America/Detroit:20221126T200000
DTEND;TZID=America/Detroit:20221126T230000
DTSTAMP:20260420T232521
CREATED:20220804T140013Z
LAST-MODIFIED:20220804T140013Z
UID:10000168-1669492800-1669503600@theark.org
SUMMARY:Mr. B with George Bedard and Steve Nardella
DESCRIPTION:Please review The Ark’s current COVID-related information before attending a show. \nCOVID-19 FAQ \nBorn in Flint and a true Michigan institution\, Mr. B (Mark Braun) is a rare living link to the early days of boogie woogie\, having learned directly from legends like Little Brother Montgomery and Blind John Davis. He plays in concert halls\, he plays outdoors\, he’s even played on a piano being paddled out to Mackinac Island\, but wherever you heard him\, it’s an exciting show. Each year Mr. B stops in at The Ark for a Thanksgiving weekend concert\, and it always brings something new. Mr. B often brings in musicians from around southeast Michigan and beyond for a boogie and jazz blowout to kick off the holiday season with a big dose of boogie woogie joy. You may think every town has a Mr. B\, but you would be very\, very wrong.  \nTonight’s show offers an opportunity to hear three of the legends of Michigan music together on the same stage—guitarists George Bedard and Steve Nardella will be joining Mr. B on stage for a Thanksgiving weekend blues and boogie blowout! This trio has a grand history of playing together in the past\, and when they have\, the results have been amazing. This will be a long-awaited reunion show for these three giants of blues and boogie and it’s not to be missed!
URL:https://theark.org/event/mr-b-221126/
LOCATION:The Ark\, 316 S. Main\, Ann Arbor\, MI\, 48104\, United States
ATTACH;FMTTYPE=image/jpeg:https://theark.org/wp-content/uploads/2021/10/Mr.B_2-1.jpg
END:VEVENT
END:VCALENDAR