BEGIN:VCALENDAR
VERSION:2.0
PRODID:-//The Ark - ECPv6.15.20//NONSGML v1.0//EN
CALSCALE:GREGORIAN
METHOD:PUBLISH
X-ORIGINAL-URL:https://theark.org
X-WR-CALDESC:Events for The Ark
REFRESH-INTERVAL;VALUE=DURATION:PT1H
X-Robots-Tag:noindex
X-PUBLISHED-TTL:PT1H
BEGIN:VTIMEZONE
TZID:America/Detroit
BEGIN:DAYLIGHT
TZOFFSETFROM:-0500
TZOFFSETTO:-0400
TZNAME:EDT
DTSTART:20210314T070000
END:DAYLIGHT
BEGIN:STANDARD
TZOFFSETFROM:-0400
TZOFFSETTO:-0500
TZNAME:EST
DTSTART:20211107T060000
END:STANDARD
BEGIN:DAYLIGHT
TZOFFSETFROM:-0500
TZOFFSETTO:-0400
TZNAME:EDT
DTSTART:20220313T070000
END:DAYLIGHT
BEGIN:STANDARD
TZOFFSETFROM:-0400
TZOFFSETTO:-0500
TZNAME:EST
DTSTART:20221106T060000
END:STANDARD
BEGIN:DAYLIGHT
TZOFFSETFROM:-0500
TZOFFSETTO:-0400
TZNAME:EDT
DTSTART:20230312T070000
END:DAYLIGHT
BEGIN:STANDARD
TZOFFSETFROM:-0400
TZOFFSETTO:-0500
TZNAME:EST
DTSTART:20231105T060000
END:STANDARD
END:VTIMEZONE
BEGIN:VEVENT
DTSTART;TZID=America/Detroit:20221125T200000
DTEND;TZID=America/Detroit:20221125T230000
DTSTAMP:20260420T232646
CREATED:20220804T140050Z
LAST-MODIFIED:20220804T140050Z
UID:10000169-1669406400-1669417200@theark.org
SUMMARY:Matt Watroba
DESCRIPTION:Please review The Ark’s current COVID-related information before attending a show. \nCOVID-19 FAQ \nWhat could be better than to kick off the holiday season with a Michigan folk music institution? Matt Watroba\, host of WDET-FM’s “Folks Like Us” program and a Detroit Music Awards winner as Best Overall Folk Performer\, is the kind of guy who makes friends easily: not only is he on a first-name basis with most of the major folk musicians in North America after a couple of decades of sharing stages with them\, but he also has the kind of rapport with audiences that makes them feel as if they’re sitting among friends in a living room. We think a Matt Watroba concert makes a great November tradition. Matt’s previous Thanksgiving shows have brought great special guests\, so stay tuned!
URL:https://theark.org/event/matt-watroba-221125/
LOCATION:The Ark\, 316 S. Main\, Ann Arbor\, MI\, 48104\, United States
ATTACH;FMTTYPE=image/jpeg:https://theark.org/wp-content/uploads/2021/10/matt-tracks-2.jpg
END:VEVENT
END:VCALENDAR