BEGIN:VCALENDAR
VERSION:2.0
PRODID:-//The Ark - ECPv6.15.20//NONSGML v1.0//EN
CALSCALE:GREGORIAN
METHOD:PUBLISH
X-WR-CALNAME:The Ark
X-ORIGINAL-URL:https://theark.org
X-WR-CALDESC:Events for The Ark
REFRESH-INTERVAL;VALUE=DURATION:PT1H
X-Robots-Tag:noindex
X-PUBLISHED-TTL:PT1H
BEGIN:VTIMEZONE
TZID:America/Detroit
BEGIN:DAYLIGHT
TZOFFSETFROM:-0500
TZOFFSETTO:-0400
TZNAME:EDT
DTSTART:20210314T070000
END:DAYLIGHT
BEGIN:STANDARD
TZOFFSETFROM:-0400
TZOFFSETTO:-0500
TZNAME:EST
DTSTART:20211107T060000
END:STANDARD
BEGIN:DAYLIGHT
TZOFFSETFROM:-0500
TZOFFSETTO:-0400
TZNAME:EDT
DTSTART:20220313T070000
END:DAYLIGHT
BEGIN:STANDARD
TZOFFSETFROM:-0400
TZOFFSETTO:-0500
TZNAME:EST
DTSTART:20221106T060000
END:STANDARD
BEGIN:DAYLIGHT
TZOFFSETFROM:-0500
TZOFFSETTO:-0400
TZNAME:EDT
DTSTART:20230312T070000
END:DAYLIGHT
BEGIN:STANDARD
TZOFFSETFROM:-0400
TZOFFSETTO:-0500
TZNAME:EST
DTSTART:20231105T060000
END:STANDARD
END:VTIMEZONE
BEGIN:VEVENT
DTSTART;TZID=America/Detroit:20221118T200000
DTEND;TZID=America/Detroit:20221118T230000
DTSTAMP:20260422T073102
CREATED:20220728T140038Z
LAST-MODIFIED:20220728T140038Z
UID:10000164-1668801600-1668812400@theark.org
SUMMARY:Glen Phillips
DESCRIPTION:Please review The Ark’s current COVID-related information before attending a show. \nCOVID-19 FAQ \nGlen Phillips is the lead singer and main songwriter for the band Toad the Wet Sprocket\, which he joined when he was only 14. In the words of James Christopher Monger\, “Phillips has matured into . . . a quiet storm that dutifully blends Cat Stevens’ confident huskiness and Jackson Browne’s weary but warm observer of all things broken.” Of Glen’s album\, “Swallowed by the New\,” Chris Steffen of Allmusic.com writes\, “Songs like ‘Leaving Old Town’ and ‘Unwritten’ explicitly describe moving beyond the past and into the unknown.” Glen Phillips has evolved into one of the great folk-rock songwriters of our time\, still staying true to his Toad-like roots\, and The Ark is the place to hear him and music from his new album\, “There Is So Much Here”.  Local singer songwriter\, Kylee Phillips (no relation)\, opens the show.
URL:https://theark.org/event/glen-phillips-221118/
LOCATION:The Ark\, 316 S. Main\, Ann Arbor\, MI\, 48104\, United States
ATTACH;FMTTYPE=image/jpeg:https://theark.org/wp-content/uploads/2022/07/GlenPhillips-promo-ChrisOrwig2022-web.jpg
END:VEVENT
END:VCALENDAR