BEGIN:VCALENDAR
VERSION:2.0
PRODID:-//The Ark - ECPv6.15.20//NONSGML v1.0//EN
CALSCALE:GREGORIAN
METHOD:PUBLISH
X-ORIGINAL-URL:https://theark.org
X-WR-CALDESC:Events for The Ark
REFRESH-INTERVAL;VALUE=DURATION:PT1H
X-Robots-Tag:noindex
X-PUBLISHED-TTL:PT1H
BEGIN:VTIMEZONE
TZID:America/Detroit
BEGIN:DAYLIGHT
TZOFFSETFROM:-0500
TZOFFSETTO:-0400
TZNAME:EDT
DTSTART:20210314T070000
END:DAYLIGHT
BEGIN:STANDARD
TZOFFSETFROM:-0400
TZOFFSETTO:-0500
TZNAME:EST
DTSTART:20211107T060000
END:STANDARD
BEGIN:DAYLIGHT
TZOFFSETFROM:-0500
TZOFFSETTO:-0400
TZNAME:EDT
DTSTART:20220313T070000
END:DAYLIGHT
BEGIN:STANDARD
TZOFFSETFROM:-0400
TZOFFSETTO:-0500
TZNAME:EST
DTSTART:20221106T060000
END:STANDARD
BEGIN:DAYLIGHT
TZOFFSETFROM:-0500
TZOFFSETTO:-0400
TZNAME:EDT
DTSTART:20230312T070000
END:DAYLIGHT
BEGIN:STANDARD
TZOFFSETFROM:-0400
TZOFFSETTO:-0500
TZNAME:EST
DTSTART:20231105T060000
END:STANDARD
END:VTIMEZONE
BEGIN:VEVENT
DTSTART;TZID=America/Detroit:20221114T200000
DTEND;TZID=America/Detroit:20221114T230000
DTSTAMP:20260421T203253
CREATED:20221021T124332Z
LAST-MODIFIED:20221021T124332Z
UID:10000199-1668456000-1668466800@theark.org
SUMMARY:Augustana
DESCRIPTION:Please review The Ark’s current COVID-related information before attending a show. \nCOVID-19 FAQ \nAugustana is back with new music\, and through its formation\, its creator Dan Layus has stepped into a new musical universe. While the artist is well-known for anthemic indie-rock leaning hits like “Boston\,” “Sweet and Low\,” and “Steal Your Heart\,” Augustana’s consistent march of new and ever-evolving material has embodied a refusal to settle artistically. Never has that been more clearly evident than with the artist’s latest studio album\, “Everyday an Eternity: Solo Piano Works\,” a genre-shaking full-length record that redefines what can be expected from this artist. Composing and performing a series of piano pieces that can easily live in the contemporary classical world\, Dan Layus confidently chooses to leave his singing voice aside for the project and instead finds his lyricism echoing through the hammers and strings of the piano. The album finds the composer’s unique melodic and structural stylings effortlessly blending between the classical\, the romantic\, and the modern. Along the way\, the unfamiliar terrain for the artist seems to become more familiar with each note\, each modulation\, each variation\, as he makes his way out to the edge of musical expression and safely back home again.
URL:https://theark.org/event/augustana-221114/
LOCATION:The Ark\, 316 S. Main\, Ann Arbor\, MI\, 48104\, United States
ATTACH;FMTTYPE=image/jpeg:https://theark.org/wp-content/uploads/2022/06/Photo-Nov-10-12-29-40-AM.jpg
END:VEVENT
END:VCALENDAR