BEGIN:VCALENDAR
VERSION:2.0
PRODID:-//The Ark - ECPv6.15.20//NONSGML v1.0//EN
CALSCALE:GREGORIAN
METHOD:PUBLISH
X-WR-CALNAME:The Ark
X-ORIGINAL-URL:https://theark.org
X-WR-CALDESC:Events for The Ark
REFRESH-INTERVAL;VALUE=DURATION:PT1H
X-Robots-Tag:noindex
X-PUBLISHED-TTL:PT1H
BEGIN:VTIMEZONE
TZID:America/Detroit
BEGIN:DAYLIGHT
TZOFFSETFROM:-0500
TZOFFSETTO:-0400
TZNAME:EDT
DTSTART:20210314T070000
END:DAYLIGHT
BEGIN:STANDARD
TZOFFSETFROM:-0400
TZOFFSETTO:-0500
TZNAME:EST
DTSTART:20211107T060000
END:STANDARD
BEGIN:DAYLIGHT
TZOFFSETFROM:-0500
TZOFFSETTO:-0400
TZNAME:EDT
DTSTART:20220313T070000
END:DAYLIGHT
BEGIN:STANDARD
TZOFFSETFROM:-0400
TZOFFSETTO:-0500
TZNAME:EST
DTSTART:20221106T060000
END:STANDARD
BEGIN:DAYLIGHT
TZOFFSETFROM:-0500
TZOFFSETTO:-0400
TZNAME:EDT
DTSTART:20230312T070000
END:DAYLIGHT
BEGIN:STANDARD
TZOFFSETFROM:-0400
TZOFFSETTO:-0500
TZNAME:EST
DTSTART:20231105T060000
END:STANDARD
END:VTIMEZONE
BEGIN:VEVENT
DTSTART;TZID=America/Detroit:20221113T193000
DTEND;TZID=America/Detroit:20221113T230000
DTSTAMP:20260422T182745
CREATED:20220616T140033Z
LAST-MODIFIED:20220616T140033Z
UID:10000162-1668367800-1668380400@theark.org
SUMMARY:Rachael Davis
DESCRIPTION:Please review The Ark’s current COVID-related information before attending a show. \nCOVID-19 FAQ \nMulti-instrumentalist Rachael Davis is as renowned for her expressive—and explosive—voice as she is for uniting the often disparate worlds of folk\, blues\, country\, and pop. Rachael grew up not only in a family of musicians\, but in an extended village of remarkable musicians and songwriters who nurtured and mentored her from the time she was born. Her clear tone and uncanny memory for just about every song she’s ever heard came early\, and has served her well throughout her career. At eight she joined the family band Lake Effect\, performing regularly at folk festivals throughout her home state of Michigan and around the U.S. By age 12\, and continuing each year since\, Rachael has brought the Wheatland Music Festival to its knees closing the Sunday morning gospel set with her stunning solo a capella version of “Amazing Grace.” “My slant on acoustic music can be explained by a mixed cassette tape that my father played during my early childhood while driving in our family’s Chevy Cavalier station wagon we nicknamed Iggy. On one side of the cassette was the soundtrack for the film The Big Chill. On the other was John Hartford’s ‘Areoplane\,'” Rachael says. She describes her music as “Motown-Banjo.” Recently Rachael has collaborated in the critically acclaimed supergroup The Sweetwater Warblers\, with Lindsay Lou and May Erlewine. Rachael Davis now lives in Nashville\, Tennessee with her husband\, critically acclaimed bassist\, Dominic John Davis\, with whom she performs as The Davis Duo. Together they cultivate a diverse community steeped in music\, art\, travel and love\, and are raising a son and daughter at the center of it all.
URL:https://theark.org/event/rachael-davis-221113/
LOCATION:The Ark\, 316 S. Main\, Ann Arbor\, MI\, 48104\, United States
ATTACH;FMTTYPE=image/jpeg:https://theark.org/wp-content/uploads/2022/06/RachaelDavis-web.jpg
END:VEVENT
END:VCALENDAR