BEGIN:VCALENDAR
VERSION:2.0
PRODID:-//The Ark - ECPv6.15.20//NONSGML v1.0//EN
CALSCALE:GREGORIAN
METHOD:PUBLISH
X-WR-CALNAME:The Ark
X-ORIGINAL-URL:https://theark.org
X-WR-CALDESC:Events for The Ark
REFRESH-INTERVAL;VALUE=DURATION:PT1H
X-Robots-Tag:noindex
X-PUBLISHED-TTL:PT1H
BEGIN:VTIMEZONE
TZID:America/Detroit
BEGIN:DAYLIGHT
TZOFFSETFROM:-0500
TZOFFSETTO:-0400
TZNAME:EDT
DTSTART:20210314T070000
END:DAYLIGHT
BEGIN:STANDARD
TZOFFSETFROM:-0400
TZOFFSETTO:-0500
TZNAME:EST
DTSTART:20211107T060000
END:STANDARD
BEGIN:DAYLIGHT
TZOFFSETFROM:-0500
TZOFFSETTO:-0400
TZNAME:EDT
DTSTART:20220313T070000
END:DAYLIGHT
BEGIN:STANDARD
TZOFFSETFROM:-0400
TZOFFSETTO:-0500
TZNAME:EST
DTSTART:20221106T060000
END:STANDARD
BEGIN:DAYLIGHT
TZOFFSETFROM:-0500
TZOFFSETTO:-0400
TZNAME:EDT
DTSTART:20230312T070000
END:DAYLIGHT
BEGIN:STANDARD
TZOFFSETFROM:-0400
TZOFFSETTO:-0500
TZNAME:EST
DTSTART:20231105T060000
END:STANDARD
END:VTIMEZONE
BEGIN:VEVENT
DTSTART;TZID=America/Detroit:20221112T200000
DTEND;TZID=America/Detroit:20221112T230000
DTSTAMP:20260423T125132
CREATED:20220804T140040Z
LAST-MODIFIED:20220804T140040Z
UID:10000165-1668283200-1668294000@theark.org
SUMMARY:Alex Cuba
DESCRIPTION:Please review The Ark’s current COVID-related information before attending a show. \nCOVID-19 FAQ \nAlex Cuba is a multiple Latin Grammy/Grammy/Juno winning singer-songwriter who is not tied to tradition; Alex has a vast musical vision. Born Alexis Puentes in Artemisa\, Cuba\, was immersed in music at a very young age\, joining his father’s (respected guitarist and teacher Valentin Puentes) group of 24 guitarists. Alex then went on to study electric and upright bass and touring and recording nationally and internationally. Over eight albums and stops in British Columbia\, Montreal\, and New York\, his music has deepened and grown more diverse. His musical evolution for years was all about searching for the simplicity and soul in Cuban music –taking apart the complex arrangements\, mixing it with North American influences\, adopting the melodic simplicity of pop music\, looking to Cuban folk traditions for inspiration—he’s always exploring\, always creating something fresh and new\, and always\, it seems\, getting it just right.
URL:https://theark.org/event/alex-cuba-221112/
LOCATION:The Ark\, 316 S. Main\, Ann Arbor\, MI\, 48104\, United States
ATTACH;FMTTYPE=image/jpeg:https://theark.org/wp-content/uploads/2022/08/Alex-Cuba.jpg
END:VEVENT
END:VCALENDAR