BEGIN:VCALENDAR
VERSION:2.0
PRODID:-//The Ark - ECPv6.15.20//NONSGML v1.0//EN
CALSCALE:GREGORIAN
METHOD:PUBLISH
X-WR-CALNAME:The Ark
X-ORIGINAL-URL:https://theark.org
X-WR-CALDESC:Events for The Ark
REFRESH-INTERVAL;VALUE=DURATION:PT1H
X-Robots-Tag:noindex
X-PUBLISHED-TTL:PT1H
BEGIN:VTIMEZONE
TZID:America/Detroit
BEGIN:DAYLIGHT
TZOFFSETFROM:-0500
TZOFFSETTO:-0400
TZNAME:EDT
DTSTART:20210314T070000
END:DAYLIGHT
BEGIN:STANDARD
TZOFFSETFROM:-0400
TZOFFSETTO:-0500
TZNAME:EST
DTSTART:20211107T060000
END:STANDARD
BEGIN:DAYLIGHT
TZOFFSETFROM:-0500
TZOFFSETTO:-0400
TZNAME:EDT
DTSTART:20220313T070000
END:DAYLIGHT
BEGIN:STANDARD
TZOFFSETFROM:-0400
TZOFFSETTO:-0500
TZNAME:EST
DTSTART:20221106T060000
END:STANDARD
BEGIN:DAYLIGHT
TZOFFSETFROM:-0500
TZOFFSETTO:-0400
TZNAME:EDT
DTSTART:20230312T070000
END:DAYLIGHT
BEGIN:STANDARD
TZOFFSETFROM:-0400
TZOFFSETTO:-0500
TZNAME:EST
DTSTART:20231105T060000
END:STANDARD
END:VTIMEZONE
BEGIN:VEVENT
DTSTART;TZID=America/Detroit:20221111T200000
DTEND;TZID=America/Detroit:20221111T230000
DTSTAMP:20260422T073042
CREATED:20220801T140002Z
LAST-MODIFIED:20220801T140002Z
UID:10000166-1668196800-1668207600@theark.org
SUMMARY:Nervous But Excited
DESCRIPTION:Please review The Ark’s current COVID-related information before attending a show. \nCOVID-19 FAQ \nSince their hiatus in 2012\, Kate Peterson and Sarah Cleaver of Nervous but Excited have spent the years over 700 miles apart\, singing the melody lines in their own ways\, just awaiting the right time to bring the harmonies back. It’s been exactly ten years since their sold-out finale at The Ark\, and the stars have aligned for Kate and Sarah (and special guests?) to reunite at their favorite venue. As a thank you to The Ark for the years of support\, Nervous but Excited is donating $5 from each ticket sale to the club. \nBefore you even ask\, yes\, there will be nerves and there will be excitement! These two straight-from-the-heart songwriters on stage together is an experience no one can predict–even them. A few things are certain – there will be vulnerability; there will be silliness. There will be moments that honor gratitude and grief. There will be open hearts\, awkwardness\, and most definitely\, there will be laughter. And singalongs\, always singalongs!  Whatever the feeling\, it will be palpable. \nPleasantly Aggressive Folk Duo Nervous but Excited is two songwriters\, two singers\, three guitars\, a banjo\, a mandolin\, a ukulele\, dead-on harmony\, some vaguely choreographed dancing\, and an impressive amount of laughter. Their original repertoire ranges in topic from smart\, introspective narratives to the tactfully political… interspersed with songs of love and loss that will undoubtedly tug on your heartstrings. Their harmonies have been described as the kind that build so smoothly until suddenly they start to shake your insides. \nThis performance will be interpreted in American Sign Language.
URL:https://theark.org/event/nervous-but-excited/
LOCATION:The Ark\, 316 S. Main\, Ann Arbor\, MI\, 48104\, United States
CATEGORIES:Low Ticket Alert
ATTACH;FMTTYPE=image/jpeg:https://theark.org/wp-content/uploads/2022/08/NervousButExcited2022.jpg
END:VEVENT
END:VCALENDAR