BEGIN:VCALENDAR
VERSION:2.0
PRODID:-//The Ark - ECPv6.15.20//NONSGML v1.0//EN
CALSCALE:GREGORIAN
METHOD:PUBLISH
X-ORIGINAL-URL:https://theark.org
X-WR-CALDESC:Events for The Ark
REFRESH-INTERVAL;VALUE=DURATION:PT1H
X-Robots-Tag:noindex
X-PUBLISHED-TTL:PT1H
BEGIN:VTIMEZONE
TZID:America/Detroit
BEGIN:DAYLIGHT
TZOFFSETFROM:-0500
TZOFFSETTO:-0400
TZNAME:EDT
DTSTART:20210314T070000
END:DAYLIGHT
BEGIN:STANDARD
TZOFFSETFROM:-0400
TZOFFSETTO:-0500
TZNAME:EST
DTSTART:20211107T060000
END:STANDARD
BEGIN:DAYLIGHT
TZOFFSETFROM:-0500
TZOFFSETTO:-0400
TZNAME:EDT
DTSTART:20220313T070000
END:DAYLIGHT
BEGIN:STANDARD
TZOFFSETFROM:-0400
TZOFFSETTO:-0500
TZNAME:EST
DTSTART:20221106T060000
END:STANDARD
BEGIN:DAYLIGHT
TZOFFSETFROM:-0500
TZOFFSETTO:-0400
TZNAME:EDT
DTSTART:20230312T070000
END:DAYLIGHT
BEGIN:STANDARD
TZOFFSETFROM:-0400
TZOFFSETTO:-0500
TZNAME:EST
DTSTART:20231105T060000
END:STANDARD
END:VTIMEZONE
BEGIN:VEVENT
DTSTART;TZID=America/Detroit:20221110T200000
DTEND;TZID=America/Detroit:20221110T230000
DTSTAMP:20260421T203212
CREATED:20220621T160029Z
LAST-MODIFIED:20220621T160029Z
UID:10000161-1668110400-1668121200@theark.org
SUMMARY:Rachael Yamagata
DESCRIPTION:Please review The Ark’s current COVID-related information before attending a show. \nCOVID-19 FAQ \nSays the Associated Press: “Along with the badassery\, Yamagata brings a world-weary passion to her singing. Her voice is a soul-baring\, sultry instrument that commands center stage at all times. She has that deliberate\, I’ll-sing-the-note-when-I’m-ready pacing that helped make Amy Winehouse great\, and before her Billie Holliday.” Rachael has released ten albums\, with each and every one of them containing surprises. Her songs are all over television soundtracks\, and she has collaborated with artists as diverse as Jason Mraz\, Rhett Miller\, Bright Eyes\, Ryan Adams\, Toots and the Maytals\, and Ray Lamontagne. Spending some years in Chicago’s competitive songwriting scene\, Rachael is now based in Woodstock\, New York. \nOpening for Rachael is songwriter/musician Sandy Bell. Bell has moved through a vibrant and textured musical constellation\, playing most notably with the late but eternally brilliant Jeff Buckley as well as singing on the Bat for Lashes album “The Bride.” Bell’s debut solo album\, “When I Leave Ohio\,” was hailed by Stereo Embers Magazine as “…beautiful\, resonant work that’s stark and painful—Bell’s songs have crushing\, emotional exactitude that is nothing short of staggering.” Her new album is titled “Entelechy.” Music journalist Alex Green found “Entelechy” to be “filled with stirring melancholy and musical grace\,” an album that “explores the geometry of both musical form and sorrow\, while the cathartic transmutation of grief into promise will take you somewhere between the worlds of Harry Nilsson and Kate Bush.”
URL:https://theark.org/event/rachael-yamagata-221110/
LOCATION:The Ark\, 316 S. Main\, Ann Arbor\, MI\, 48104\, United States
ATTACH;FMTTYPE=image/jpeg:https://theark.org/wp-content/uploads/2022/06/Rachael_Yamagata_R_credit_Laura_Crosta_Web.jpg
END:VEVENT
END:VCALENDAR