BEGIN:VCALENDAR
VERSION:2.0
PRODID:-//The Ark - ECPv6.15.20//NONSGML v1.0//EN
CALSCALE:GREGORIAN
METHOD:PUBLISH
X-WR-CALNAME:The Ark
X-ORIGINAL-URL:https://theark.org
X-WR-CALDESC:Events for The Ark
REFRESH-INTERVAL;VALUE=DURATION:PT1H
X-Robots-Tag:noindex
X-PUBLISHED-TTL:PT1H
BEGIN:VTIMEZONE
TZID:America/Detroit
BEGIN:DAYLIGHT
TZOFFSETFROM:-0500
TZOFFSETTO:-0400
TZNAME:EDT
DTSTART:20210314T070000
END:DAYLIGHT
BEGIN:STANDARD
TZOFFSETFROM:-0400
TZOFFSETTO:-0500
TZNAME:EST
DTSTART:20211107T060000
END:STANDARD
BEGIN:DAYLIGHT
TZOFFSETFROM:-0500
TZOFFSETTO:-0400
TZNAME:EDT
DTSTART:20220313T070000
END:DAYLIGHT
BEGIN:STANDARD
TZOFFSETFROM:-0400
TZOFFSETTO:-0500
TZNAME:EST
DTSTART:20221106T060000
END:STANDARD
BEGIN:DAYLIGHT
TZOFFSETFROM:-0500
TZOFFSETTO:-0400
TZNAME:EDT
DTSTART:20230312T070000
END:DAYLIGHT
BEGIN:STANDARD
TZOFFSETFROM:-0400
TZOFFSETTO:-0500
TZNAME:EST
DTSTART:20231105T060000
END:STANDARD
END:VTIMEZONE
BEGIN:VEVENT
DTSTART;TZID=America/Detroit:20221106T193000
DTEND;TZID=America/Detroit:20221106T230000
DTSTAMP:20260423T024007
CREATED:20220804T140035Z
LAST-MODIFIED:20220804T140035Z
UID:10000167-1667763000-1667775600@theark.org
SUMMARY:Peter Madcat Ruth's C.A.R.Ma Quartet
DESCRIPTION:Please review The Ark’s current COVID-related information before attending a show. \nCOVID-19 FAQ \nPeter Madcat Ruth is one of the best harmonica players on earth\, a mainstay of Ann Arbor’s blues scene since the 1970s and a carrier of tradition who learned his art directly from Chicago’s masters of the blues harmonica. He’s performed in many countries\, won a Grammy award\, and remains a major force in blues harmonica nationally. Madcat has released many albums\, both solo and with his Madcat Midnight Blues Journey band. His “More Real Folk Blues” album features harmonicas\, ukulele\, jaw harps\, baritone guitar\, banjo\, banjo ukulele\, high hat\, cowbell\, wood block\, shakers\, guiro\, tambourine\, and brushes on a pizza box\, and\, of course\, vocals\, and in concert he often appears with younger players in shows where almost anything might happen. Don’t miss this chance to see a Michigan legend. Tonight Madcat appears with his C.A.R.Ma. Quartet\, featuring drummer/tabla player John Churchville\, bassist Brennan Andes\, and guitarist/vocalist Dan Ripke.
URL:https://theark.org/event/peter-madcat-ruths-c-a-r-ma-quartet-221106/
LOCATION:The Ark\, 316 S. Main\, Ann Arbor\, MI\, 48104\, United States
ATTACH;FMTTYPE=image/jpeg:https://theark.org/wp-content/uploads/2022/08/Madcat-CARma-Quartet.jpg
END:VEVENT
END:VCALENDAR